BEGIN:VCALENDAR
VERSION:2.0
PRODID:-//Fun Kids - the UK&#039;s children&#039;s radio station - ECPv6.9.0//NONSGML v1.0//EN
CALSCALE:GREGORIAN
METHOD:PUBLISH
X-ORIGINAL-URL:https://www.funkidslive.com
X-WR-CALDESC:Events for Fun Kids - the UK&#039;s children&#039;s radio station
REFRESH-INTERVAL;VALUE=DURATION:PT1H
X-Robots-Tag:noindex
X-PUBLISHED-TTL:PT1H
BEGIN:VTIMEZONE
TZID:Europe/London
BEGIN:DAYLIGHT
TZOFFSETFROM:+0000
TZOFFSETTO:+0100
TZNAME:BST
DTSTART:20250330T010000
END:DAYLIGHT
BEGIN:STANDARD
TZOFFSETFROM:+0100
TZOFFSETTO:+0000
TZNAME:GMT
DTSTART:20251026T010000
END:STANDARD
END:VTIMEZONE
BEGIN:VEVENT
DTSTART;VALUE=DATE:20250523
DTEND;VALUE=DATE:20250528
DTSTAMP:20260421T161532
CREATED:20250516T103601Z
LAST-MODIFIED:20250516T103601Z
UID:1123990-1747976400-1748321999@www.funkidslive.com
SUMMARY:See Fun Kids at Elderflower Fields Festival and get a discount!
DESCRIPTION:We’re counting down the days to play at Elderflower Fields Festival on the 23-26th May in the Ashdown Forest Sussex. It‘s a brilliant weekend of discovery and outdoor adventure we can’t wait for – because we‘ll be there doing water experiments!  \nThere‘s a special offer just for you\, our listeners\, if you enter promo code saver25 (where it says ‘got a promo code’) on the website to reveal limited discounted tickets.  \nGo to https://elderflowerfields.co.uk/ to book and don‘t forget to come and find us and say hi.
URL:https://www.funkidslive.com/event/see-fun-kids-at-elderflower-fields-festival-and-get-a-discount/
LOCATION:Ashdown Forest\, Pippingford Manor\, Nutley\, Uckfield\, TN22 3HW
CATEGORIES:Days Out,Festival
END:VEVENT
END:VCALENDAR