BEGIN:VCALENDAR
VERSION:2.0
PRODID:-//Fun Kids - the UK&#039;s children&#039;s radio station - ECPv6.9.0//NONSGML v1.0//EN
CALSCALE:GREGORIAN
METHOD:PUBLISH
X-ORIGINAL-URL:https://www.funkidslive.com
X-WR-CALDESC:Events for Fun Kids - the UK&#039;s children&#039;s radio station
REFRESH-INTERVAL;VALUE=DURATION:PT1H
X-Robots-Tag:noindex
X-PUBLISHED-TTL:PT1H
BEGIN:VTIMEZONE
TZID:Europe/London
BEGIN:DAYLIGHT
TZOFFSETFROM:+0000
TZOFFSETTO:+0100
TZNAME:BST
DTSTART:20170326T010000
END:DAYLIGHT
BEGIN:STANDARD
TZOFFSETFROM:+0100
TZOFFSETTO:+0000
TZNAME:GMT
DTSTART:20171029T010000
END:STANDARD
BEGIN:DAYLIGHT
TZOFFSETFROM:+0000
TZOFFSETTO:+0100
TZNAME:BST
DTSTART:20180325T010000
END:DAYLIGHT
BEGIN:STANDARD
TZOFFSETFROM:+0100
TZOFFSETTO:+0000
TZNAME:GMT
DTSTART:20181028T010000
END:STANDARD
BEGIN:DAYLIGHT
TZOFFSETFROM:+0000
TZOFFSETTO:+0100
TZNAME:BST
DTSTART:20190331T010000
END:DAYLIGHT
BEGIN:STANDARD
TZOFFSETFROM:+0100
TZOFFSETTO:+0000
TZNAME:GMT
DTSTART:20191027T010000
END:STANDARD
BEGIN:DAYLIGHT
TZOFFSETFROM:+0000
TZOFFSETTO:+0100
TZNAME:BST
DTSTART:20200329T010000
END:DAYLIGHT
BEGIN:STANDARD
TZOFFSETFROM:+0100
TZOFFSETTO:+0000
TZNAME:GMT
DTSTART:20201025T010000
END:STANDARD
BEGIN:DAYLIGHT
TZOFFSETFROM:+0000
TZOFFSETTO:+0100
TZNAME:BST
DTSTART:20210328T010000
END:DAYLIGHT
BEGIN:STANDARD
TZOFFSETFROM:+0100
TZOFFSETTO:+0000
TZNAME:GMT
DTSTART:20211031T010000
END:STANDARD
BEGIN:DAYLIGHT
TZOFFSETFROM:+0000
TZOFFSETTO:+0100
TZNAME:BST
DTSTART:20220327T010000
END:DAYLIGHT
BEGIN:STANDARD
TZOFFSETFROM:+0100
TZOFFSETTO:+0000
TZNAME:GMT
DTSTART:20221030T010000
END:STANDARD
END:VTIMEZONE
BEGIN:VEVENT
DTSTART;VALUE=DATE:20221126
DTEND;VALUE=DATE:20221129
DTSTAMP:20260422T004804
CREATED:20221114T060026Z
LAST-MODIFIED:20221111T190145Z
UID:1113884-1669438800-1669611599@www.funkidslive.com
SUMMARY:BAFTA Children and Young People Festival
DESCRIPTION:With the return of the BAFTA Children and Young People Awards\, BAFTA is opening its doors for the first-ever Children and Young People Festival at its headquarters in London. Hosted by children’s presenters Alishea Campbell-Drummond and Ben Shires\, there are ample family photo opportunities\, giveaways\, and a chance to meet the nominees. \n  \nBAFTA Young Presenter Finalists 2022   \nPlus take part in activities across BAFTA’s initiatives: Young Creators\, Young Game Designers and Young Presenters including creating your own game concept or practising your own presenter link. \n  \nBAFTA Young Creator’s Day in London\, UK on 23 April 2022   \nWith thanks to our Official Supporters to BAFTA’s Children and Young People Festival: BBC Studios\, Cartoon Network\, Moonbug Entertainment and Nickelodeon. \nAdmission: £5 (Public)\, £3 (Concessions) \nTo buy tickets to the morning session on Saturday 26th November 2022\, click here \nTo buy tickets to the afternoon session on Saturday 26th November 2022\, click here  \nTo buy tickets to the morning session on Sunday 27th November 2022\, click here  \nFor information about BAFTA’s initiatives click here. Sign up to the newsletter to ensure you never miss an event. \nAva McIntosh \, Avika Mishra and Bertha Muigai at BAFTA Young Game Designer Showcase on Saturday 9th July 2022
URL:https://www.funkidslive.com/event/bafta-children-and-young-people-festival/
LOCATION:BAFTA\, 195 Piccadilly\, London\, SW1Y 4QU\, United Kingdom
GEO:51.5086837;-0.1374529
X-APPLE-STRUCTURED-LOCATION;VALUE=URI;X-ADDRESS=BAFTA 195 Piccadilly London SW1Y 4QU United Kingdom;X-APPLE-RADIUS=500;X-TITLE=195 Piccadilly:geo:-0.1374529,51.5086837
END:VEVENT
BEGIN:VEVENT
DTSTART;TZID=Europe/London:20170805T110000
DTEND;TZID=Europe/London:20170806T170000
DTSTAMP:20260422T004804
CREATED:20170731T104118Z
LAST-MODIFIED:20170731T104118Z
UID:1080196-1501930800-1502038800@www.funkidslive.com
SUMMARY:Q+A with Tracy Beaker\, see LEGO Batman and more cinema goodness at BAFTA at 70 Open Weekend: Exhibition
DESCRIPTION:For the final time this year\, BAFTA is opening its doors to the general public for BAFTA at 70. \nBAFTA stands for the British Academy of Film and Television Arts. They’re an independent group who are really interested in movies\, TV\, and art on screen. \nThere are loads of events that are perfect for kids like a screenings of the entire Tracy Beaker story\, followed by Q&A with its crew. \nThere’s also a screening of the new LEGO Batman movie and Spiderman: Homecoming. \nYour ticket includes free entry to the BAFTA at 70 exhibit. That’s a specially curated gallery exploring the academy’s past. \nYou’ll also get to take a tour through the venue\, and explore its archives. \nClick here to explore what’s on
URL:https://www.funkidslive.com/event/qa-tracy-beaker-see-lego-batman-cinema-goodness-bafta-70-open-weekend-exhibition/
LOCATION:BAFTA\, 195 Piccadilly\, London\, SW1Y 4QU\, United Kingdom
CATEGORIES:Exhibition
GEO:51.5086837;-0.1374529
X-APPLE-STRUCTURED-LOCATION;VALUE=URI;X-ADDRESS=BAFTA 195 Piccadilly London SW1Y 4QU United Kingdom;X-APPLE-RADIUS=500;X-TITLE=195 Piccadilly:geo:-0.1374529,51.5086837
END:VEVENT
END:VCALENDAR