BEGIN:VCALENDAR
VERSION:2.0
PRODID:-//Fun Kids - the UK&#039;s children&#039;s radio station - ECPv6.9.0//NONSGML v1.0//EN
CALSCALE:GREGORIAN
METHOD:PUBLISH
X-WR-CALNAME:Fun Kids - the UK&#039;s children&#039;s radio station
X-ORIGINAL-URL:https://www.funkidslive.com
X-WR-CALDESC:Events for Fun Kids - the UK&#039;s children&#039;s radio station
REFRESH-INTERVAL;VALUE=DURATION:PT1H
X-Robots-Tag:noindex
X-PUBLISHED-TTL:PT1H
BEGIN:VTIMEZONE
TZID:Europe/London
BEGIN:DAYLIGHT
TZOFFSETFROM:+0000
TZOFFSETTO:+0100
TZNAME:BST
DTSTART:20240331T010000
END:DAYLIGHT
BEGIN:STANDARD
TZOFFSETFROM:+0100
TZOFFSETTO:+0000
TZNAME:GMT
DTSTART:20241027T010000
END:STANDARD
END:VTIMEZONE
BEGIN:VEVENT
DTSTART;VALUE=DATE:20241206
DTEND;VALUE=DATE:20241226
DTSTAMP:20260421T132119
CREATED:20241206T111034Z
LAST-MODIFIED:20241206T111034Z
UID:1122616-1733461200-1735102799@www.funkidslive.com
SUMMARY:Birmingham Frankfurt Christmas Market
DESCRIPTION:The Birmingham Frankfurt Christmas Market is the biggest German-style Christmas Market outside Germany!  \nThere’s a live music programme and much more.  \nwww.thebfcm.co.uk has more details.
URL:https://www.funkidslive.com/event/birmingham-frankfurt-christmas-market/
LOCATION:Birmingham Frankfurt Christmas Market\, Victoria Square\, Birmingham\, B1 1BD\, United Kingdom
END:VEVENT
END:VCALENDAR