BEGIN:VCALENDAR
VERSION:2.0
PRODID:-//Fun Kids - the UK&#039;s children&#039;s radio station - ECPv6.9.0//NONSGML v1.0//EN
CALSCALE:GREGORIAN
METHOD:PUBLISH
X-ORIGINAL-URL:https://www.funkidslive.com
X-WR-CALDESC:Events for Fun Kids - the UK&#039;s children&#039;s radio station
REFRESH-INTERVAL;VALUE=DURATION:PT1H
X-Robots-Tag:noindex
X-PUBLISHED-TTL:PT1H
BEGIN:VTIMEZONE
TZID:Europe/London
BEGIN:DAYLIGHT
TZOFFSETFROM:+0000
TZOFFSETTO:+0100
TZNAME:BST
DTSTART:20170326T010000
END:DAYLIGHT
BEGIN:STANDARD
TZOFFSETFROM:+0100
TZOFFSETTO:+0000
TZNAME:GMT
DTSTART:20171029T010000
END:STANDARD
END:VTIMEZONE
BEGIN:VEVENT
DTSTART;VALUE=DATE:20171125
DTEND;VALUE=DATE:20171128
DTSTAMP:20260421T213311
CREATED:20171109T095223Z
LAST-MODIFIED:20171109T095223Z
UID:1084109-1511586000-1511758799@www.funkidslive.com
SUMMARY:See the Teletubbies live in Carlisle and other venues across the UK!
DESCRIPTION:See the iconic\, world famous Teletubbies in their first ever theatre show created especially for little ones! \nJoin Tinky Winky\, Dipsy\, Laa-Laa and Po in a show full of love and laughter as they explore the magical world of Teletubbyland.  \nLook out for the Tubby Phone\, Noo-Noo and Sun Baby in a fun and bright world which captures your imaginations and encourages you to explore the world around you.  \nJoin in and enjoy beloved features from the TV series along with brand new songs! \nClick here to find out more! \nAlthough we’ve shown the Carlisle listing below\, there are loads of locations the Teletubbies are performing! \nFind out where on teletubbieslive.com!
URL:https://www.funkidslive.com/event/see-teletubbies-live-carlisle-venues-across-uk/
LOCATION:Carlisle Sands Centre\, The Sands\, Carlisle\, CA1 1JQ\, United Kingdom
CATEGORIES:Shows
GEO:54.8998568;-2.9341255
X-APPLE-STRUCTURED-LOCATION;VALUE=URI;X-ADDRESS=Carlisle Sands Centre The Sands Carlisle CA1 1JQ United Kingdom;X-APPLE-RADIUS=500;X-TITLE=The Sands:geo:-2.9341255,54.8998568
END:VEVENT
END:VCALENDAR