BEGIN:VCALENDAR
VERSION:2.0
PRODID:-//Fun Kids - the UK&#039;s children&#039;s radio station - ECPv6.9.0//NONSGML v1.0//EN
CALSCALE:GREGORIAN
METHOD:PUBLISH
X-WR-CALNAME:Fun Kids - the UK&#039;s children&#039;s radio station
X-ORIGINAL-URL:https://www.funkidslive.com
X-WR-CALDESC:Events for Fun Kids - the UK&#039;s children&#039;s radio station
REFRESH-INTERVAL;VALUE=DURATION:PT1H
X-Robots-Tag:noindex
X-PUBLISHED-TTL:PT1H
BEGIN:VTIMEZONE
TZID:Europe/London
BEGIN:DAYLIGHT
TZOFFSETFROM:+0000
TZOFFSETTO:+0100
TZNAME:BST
DTSTART:20170326T010000
END:DAYLIGHT
BEGIN:STANDARD
TZOFFSETFROM:+0100
TZOFFSETTO:+0000
TZNAME:GMT
DTSTART:20171029T010000
END:STANDARD
END:VTIMEZONE
BEGIN:VEVENT
DTSTART;TZID=Europe/London:20170708T080000
DTEND;TZID=Europe/London:20171231T170000
DTSTAMP:20260421T231151
CREATED:20170622T133218Z
LAST-MODIFIED:20170622T133255Z
UID:1078989-1499500800-1514739600@www.funkidslive.com
SUMMARY:Get hands-on in an incredible digital play area\, digiPlaySpace! Opening July 8th 2017 in Yorkshire.
DESCRIPTION:Eureka! is hosting the European premiere of digiPlaySpace\, an exhibition all the way from Canada! \ndigiPlaySpace is a collection of digital art. It features really futuristic installations and encourages you to get hands-on with some of the most creative technologies through games and play! \nThe exhibition opens on Saturday 8 July to celebrate Eureka!’s 25th anniversary and runs until the end of the year. \nhttps://youtu.be/XsoCsPEPj_k \nVisitors will use digital stop motion animation to make a dance video\, create music\, build and control their own robots and more! \ndigiPlaySpace at Eureka! will showcase fourteen pieces from acclaimed international artists\, exhibited together in Europe for the first time. \nClick here for more information! \nWith lots for kids to touch\, control and play with\, digiPlaySpace will offer some of the best the world has in new media fun and learning! \nYour ticket allows you entry all year round. 
URL:https://www.funkidslive.com/event/get-hands-incredible-digital-play-area-digiplayspace-opening-july-8th-2017-yorkshire/
LOCATION:Eureka! The National Children’s Museum\, Eureka! The National Children’s Museum\, Discovery Road\, Halifax\, HX12NE\, United Kingdom
CATEGORIES:Exhibition
GEO:53.720092;-1.854872
X-APPLE-STRUCTURED-LOCATION;VALUE=URI;X-ADDRESS=Eureka! The National Children’s Museum Eureka! The National Children’s Museum Discovery Road Halifax HX12NE United Kingdom;X-APPLE-RADIUS=500;X-TITLE=Eureka! The National Children’s Museum\, Discovery Road:geo:-1.854872,53.720092
END:VEVENT
END:VCALENDAR