BEGIN:VCALENDAR
VERSION:2.0
PRODID:-//Fun Kids - the UK&#039;s children&#039;s radio station - ECPv6.9.0//NONSGML v1.0//EN
CALSCALE:GREGORIAN
METHOD:PUBLISH
X-ORIGINAL-URL:https://www.funkidslive.com
X-WR-CALDESC:Events for Fun Kids - the UK&#039;s children&#039;s radio station
REFRESH-INTERVAL;VALUE=DURATION:PT1H
X-Robots-Tag:noindex
X-PUBLISHED-TTL:PT1H
BEGIN:VTIMEZONE
TZID:Europe/London
BEGIN:DAYLIGHT
TZOFFSETFROM:+0000
TZOFFSETTO:+0100
TZNAME:BST
DTSTART:20180325T010000
END:DAYLIGHT
BEGIN:STANDARD
TZOFFSETFROM:+0100
TZOFFSETTO:+0000
TZNAME:GMT
DTSTART:20181028T010000
END:STANDARD
BEGIN:DAYLIGHT
TZOFFSETFROM:+0000
TZOFFSETTO:+0100
TZNAME:BST
DTSTART:20190331T010000
END:DAYLIGHT
BEGIN:STANDARD
TZOFFSETFROM:+0100
TZOFFSETTO:+0000
TZNAME:GMT
DTSTART:20191027T010000
END:STANDARD
BEGIN:DAYLIGHT
TZOFFSETFROM:+0000
TZOFFSETTO:+0100
TZNAME:BST
DTSTART:20200329T010000
END:DAYLIGHT
BEGIN:STANDARD
TZOFFSETFROM:+0100
TZOFFSETTO:+0000
TZNAME:GMT
DTSTART:20201025T010000
END:STANDARD
BEGIN:DAYLIGHT
TZOFFSETFROM:+0000
TZOFFSETTO:+0100
TZNAME:BST
DTSTART:20210328T010000
END:DAYLIGHT
BEGIN:STANDARD
TZOFFSETFROM:+0100
TZOFFSETTO:+0000
TZNAME:GMT
DTSTART:20211031T010000
END:STANDARD
BEGIN:DAYLIGHT
TZOFFSETFROM:+0000
TZOFFSETTO:+0100
TZNAME:BST
DTSTART:20220327T010000
END:DAYLIGHT
BEGIN:STANDARD
TZOFFSETFROM:+0100
TZOFFSETTO:+0000
TZNAME:GMT
DTSTART:20221030T010000
END:STANDARD
BEGIN:DAYLIGHT
TZOFFSETFROM:+0000
TZOFFSETTO:+0100
TZNAME:BST
DTSTART:20230326T010000
END:DAYLIGHT
BEGIN:STANDARD
TZOFFSETFROM:+0100
TZOFFSETTO:+0000
TZNAME:GMT
DTSTART:20231029T010000
END:STANDARD
BEGIN:DAYLIGHT
TZOFFSETFROM:+0000
TZOFFSETTO:+0100
TZNAME:BST
DTSTART:20240331T010000
END:DAYLIGHT
BEGIN:STANDARD
TZOFFSETFROM:+0100
TZOFFSETTO:+0000
TZNAME:GMT
DTSTART:20241027T010000
END:STANDARD
END:VTIMEZONE
BEGIN:VEVENT
DTSTART;VALUE=DATE:20231013
DTEND;VALUE=DATE:20240123
DTSTAMP:20260421T113942
CREATED:20231109T150256Z
LAST-MODIFIED:20231109T150701Z
UID:1118855-1697173200-1705899599@www.funkidslive.com
SUMMARY:Disney100: The Exhibition
DESCRIPTION:The Walt Disney Archives has opened its vault of treasures in Disney100: The Exhibition at ExCel London. \nYou’ll see hundreds of extraordinary objects including many of Disney’s “Crown Jewels”! \n\nThere is more than 250 rarely-seen artefacts and works of art\, costumes and props\, and other incredible memorabilia from the last 100 years. \nVisit ten imaginatively themed galleries showcasing classics from Snow White and the Seven Dwarfs to Encanto\, including the latest members of the Disney family – Pixar\, Star Wars and MARVEL! \n\nCelebrate your love of Disney’s most timeless stories and visit Disney100: The Exhibition at ExCel London. \nIt’s open now until January 2024. Tickets are on sale now! \n\nBook your tickets here!
URL:https://www.funkidslive.com/event/visit-disney100-the-exhibition-to-unlock-a-world-of-magic/
LOCATION:ExCeL London\, Royal Victoria Dock\, 1 Western Gateway\, London\, E16 1XL\, United Kingdom
GEO:51.5083537;0.0198855
X-APPLE-STRUCTURED-LOCATION;VALUE=URI;X-ADDRESS=ExCeL London Royal Victoria Dock 1 Western Gateway London E16 1XL United Kingdom;X-APPLE-RADIUS=500;X-TITLE=Royal Victoria Dock\, 1 Western Gateway:geo:0.0198855,51.5083537
END:VEVENT
BEGIN:VEVENT
DTSTART;VALUE=DATE:20181129
DTEND;VALUE=DATE:20190402
DTSTAMP:20260421T113942
CREATED:20181024T090956Z
LAST-MODIFIED:20181130T142142Z
UID:1090719-1543467600-1554094799@www.funkidslive.com
SUMMARY:The Avengers come to London ExCeL in a special exhibition!
DESCRIPTION:If you’re totally Marvel obsessed\, you’re in luck! \nMarvel’s Avengers Station opens in London at ExCel London on 29th November 2018. \nIt’s basically a huge multi-room experience where you get the opportunity to delve into the super-workings and back-story of each of The Avengers as they train to become an agent of the Station! \n \nStation stands for ‘Science Training and Tactical Intelligence Operative Network’! \nWhen you’re there\, you will step inside the films and become part of the Marvel storyline\, whether trying to lift Thor’s hammer or taking a sneaky peak at Bruce Banners Lab! \n \nYou’ll be able to step inside the Thor Observatory – dedicated to Thor Odinson\, King of Asgard and son of Odin! \nTest your worthiness by attempting to lift Thor’s hammer\, view Thor’s outfits\, Mjolnir and study the universe and its current parameters using NASA’s EYE on the exoplanets program. \n \nClick here to find out more! \nCheck out Captain America’s personnel file and explore the cutting-edge science that made Steve Rogers into Captain America. \nYou’ll also get to visit the Iron Man Engineering Bay – trainee agents have the chance to not only get up close and personal with Iron Man’s iconic suits of armour but also experience what simulated flight inside the suit would be like. \nAnd have you ever wondered what Bruce Banners Lab looks like? Explore the Bio Lab transformation of Dr Banners superior brain as he morphs into The Hulk! \nClick here to find out more!
URL:https://www.funkidslive.com/event/the-avengers-come-to-london-excel-in-a-special-exhibition/
LOCATION:ExCeL London\, Royal Victoria Dock\, 1 Western Gateway\, London\, E16 1XL\, United Kingdom
CATEGORIES:Days Out
GEO:51.5083537;0.0198855
X-APPLE-STRUCTURED-LOCATION;VALUE=URI;X-ADDRESS=ExCeL London Royal Victoria Dock 1 Western Gateway London E16 1XL United Kingdom;X-APPLE-RADIUS=500;X-TITLE=Royal Victoria Dock\, 1 Western Gateway:geo:0.0198855,51.5083537
END:VEVENT
BEGIN:VEVENT
DTSTART;TZID=Europe/London:20181020T080000
DTEND;TZID=Europe/London:20181022T170000
DTSTAMP:20260421T113942
CREATED:20181002T131624Z
LAST-MODIFIED:20181002T131810Z
UID:1090407-1540022400-1540227600@www.funkidslive.com
SUMMARY:Check out Kidtropolis at the London ExCeL this October!
DESCRIPTION:Kidtropolis is one of the coolest events on the calendar and it’s back for its third year! \nIf you’ve never been before\, it’s basically an epic event packed full of live shows\, cool characters\, exciting entertainment and amazing activities. \nClick here to book tickets! \nIt’s at the London ExCeL on the 20th to 22nd October 2018 making it the perfect October holiday activity. \nThere’s live shows\, awesome exhibition stands\, a massive inflatable assault course\, and we’re going to be there! \nClick here to book tickets! \nYou’ll be able to hop on the special Fun Kids bus which has a built-in radio studio. You can practice being a DJ and you might even be broadcast across the whole of the UK! \nBest of all\, your ticket includes access to everything Kidtropolis has to offer! \nThe things at the London show may vary. Make sure you check the website to find out what’s on. All activities are subject to terms and conditions and availability.
URL:https://www.funkidslive.com/event/check-out-kidtropolis-at-the-london-excel-this-october/
LOCATION:ExCeL London\, Royal Victoria Dock\, 1 Western Gateway\, London\, E16 1XL\, United Kingdom
CATEGORIES:Days Out
GEO:51.5083537;0.0198855
X-APPLE-STRUCTURED-LOCATION;VALUE=URI;X-ADDRESS=ExCeL London Royal Victoria Dock 1 Western Gateway London E16 1XL United Kingdom;X-APPLE-RADIUS=500;X-TITLE=Royal Victoria Dock\, 1 Western Gateway:geo:0.0198855,51.5083537
END:VEVENT
BEGIN:VEVENT
DTSTART;TZID=Europe/London:20180525T080000
DTEND;TZID=Europe/London:20180527T190000
DTSTAMP:20260421T113942
CREATED:20180518T141827Z
LAST-MODIFIED:20180518T141827Z
UID:1088568-1527235200-1527447600@www.funkidslive.com
SUMMARY:MCM Comic Con is coming to London and you're invited!
DESCRIPTION:MCM Comic Con is a fun filled day out for all the family and they’ve got so much for your little superhero to do when you’re at MCM London this May! \nFriday and Sunday are our quieter days so if you are bringing little ones\, they’re probably the best days to come. \nKids go free to everyone who gets a Priority Entry ticket and applies to all their shows! Here’s the details: \nChildren who are 5 years old or under enter for FREE with a Priority Entry ticket holder and those with General Tickets can bring up to two children age 10 or under with a General Entry ticket holder. \nClick here to find out more about Comic Con! \nWith free face-painting you can transform yourself into Iron Man\, Spiderman\, or Wonder Woman! \nHone those Lightsaber skills with a team of Master Jedi’s who will sharing their skills all weekend to train the family in this exciting new combat sport\, combining elements of traditional martial arts and theatrical expression! \nAnd if you need a pit stop at MCM London Comic Con you can get cosy in the MCM Reading Corner! \nThere’s a load of amazing books to introduce your little ones too and you can get comfy on their massive bean bags! \nClick here to find out more about the KidZone!
URL:https://www.funkidslive.com/event/1088568/
LOCATION:ExCeL London\, Royal Victoria Dock\, 1 Western Gateway\, London\, E16 1XL\, United Kingdom
CATEGORIES:Days Out
GEO:51.5083537;0.0198855
X-APPLE-STRUCTURED-LOCATION;VALUE=URI;X-ADDRESS=ExCeL London Royal Victoria Dock 1 Western Gateway London E16 1XL United Kingdom;X-APPLE-RADIUS=500;X-TITLE=Royal Victoria Dock\, 1 Western Gateway:geo:0.0198855,51.5083537
END:VEVENT
END:VCALENDAR