BEGIN:VCALENDAR
VERSION:2.0
PRODID:-//Fun Kids - the UK&#039;s children&#039;s radio station - ECPv6.9.0//NONSGML v1.0//EN
CALSCALE:GREGORIAN
METHOD:PUBLISH
X-ORIGINAL-URL:https://www.funkidslive.com
X-WR-CALDESC:Events for Fun Kids - the UK&#039;s children&#039;s radio station
REFRESH-INTERVAL;VALUE=DURATION:PT1H
X-Robots-Tag:noindex
X-PUBLISHED-TTL:PT1H
BEGIN:VTIMEZONE
TZID:Europe/London
BEGIN:DAYLIGHT
TZOFFSETFROM:+0000
TZOFFSETTO:+0100
TZNAME:BST
DTSTART:20250330T010000
END:DAYLIGHT
BEGIN:STANDARD
TZOFFSETFROM:+0100
TZOFFSETTO:+0000
TZNAME:GMT
DTSTART:20251026T010000
END:STANDARD
END:VTIMEZONE
BEGIN:VEVENT
DTSTART;VALUE=DATE:20250804
DTEND;VALUE=DATE:20250902
DTSTAMP:20260421T114044
CREATED:20250728T142956Z
LAST-MODIFIED:20250808T105134Z
UID:1124594-1754283600-1756702799@www.funkidslive.com
SUMMARY:Join the Free Summer of Art at the National Gallery
DESCRIPTION:Get creative in the school holidays with the Free Summer of Art – a programme of hands-on art activities for families. \nBuild a castle\, paint a masterpiece\, explore children’s artworks in the ‘Take One Picture’ exhibition\, or embark on an adventure with ‘The Keeper of Paintings’. \n \nAnd\, for two weeks in August join the NG Creative Community for immersive\, hands-on art workshops – made by kids\, for kids. \nAll activities are free with no booking needed. Bring family\, friends and a packed lunch to enjoy a summer full of creativity. \n Get inspired. Get creative. Get messy. \n  \n \nLearn more today at https://www.nationalgallery.org.uk/whats-on/free-summer-of-art  \nSome images Ellie Kurttz
URL:https://www.funkidslive.com/event/free-summer-of-art-at-the-national-gallery-london/
LOCATION:National Gallery\, Trafalgar Square\, London\, WC2N 5DN\, United Kingdom
CATEGORIES:Days Out
END:VEVENT
END:VCALENDAR