BEGIN:VCALENDAR
VERSION:2.0
PRODID:-//Fun Kids - the UK&#039;s children&#039;s radio station - ECPv6.9.0//NONSGML v1.0//EN
CALSCALE:GREGORIAN
METHOD:PUBLISH
X-WR-CALNAME:Fun Kids - the UK&#039;s children&#039;s radio station
X-ORIGINAL-URL:https://www.funkidslive.com
X-WR-CALDESC:Events for Fun Kids - the UK&#039;s children&#039;s radio station
REFRESH-INTERVAL;VALUE=DURATION:PT1H
X-Robots-Tag:noindex
X-PUBLISHED-TTL:PT1H
BEGIN:VTIMEZONE
TZID:Europe/London
BEGIN:DAYLIGHT
TZOFFSETFROM:+0000
TZOFFSETTO:+0100
TZNAME:BST
DTSTART:20250330T010000
END:DAYLIGHT
BEGIN:STANDARD
TZOFFSETFROM:+0100
TZOFFSETTO:+0000
TZNAME:GMT
DTSTART:20251026T010000
END:STANDARD
BEGIN:DAYLIGHT
TZOFFSETFROM:+0000
TZOFFSETTO:+0100
TZNAME:BST
DTSTART:20260329T010000
END:DAYLIGHT
BEGIN:STANDARD
TZOFFSETFROM:+0100
TZOFFSETTO:+0000
TZNAME:GMT
DTSTART:20261025T010000
END:STANDARD
BEGIN:DAYLIGHT
TZOFFSETFROM:+0000
TZOFFSETTO:+0100
TZNAME:BST
DTSTART:20270328T010000
END:DAYLIGHT
BEGIN:STANDARD
TZOFFSETFROM:+0100
TZOFFSETTO:+0000
TZNAME:GMT
DTSTART:20271031T010000
END:STANDARD
BEGIN:DAYLIGHT
TZOFFSETFROM:+0000
TZOFFSETTO:+0100
TZNAME:BST
DTSTART:20280326T010000
END:DAYLIGHT
BEGIN:STANDARD
TZOFFSETFROM:+0100
TZOFFSETTO:+0000
TZNAME:GMT
DTSTART:20281029T010000
END:STANDARD
END:VTIMEZONE
BEGIN:VEVENT
DTSTART;VALUE=DATE:20250411
DTEND;VALUE=DATE:20280213
DTSTAMP:20260421T113758
CREATED:20250311T060048Z
LAST-MODIFIED:20250411T102527Z
UID:1123157-1744347600-1833944399@www.funkidslive.com
SUMMARY:A new space for creativity is now open at the National Gallery!
DESCRIPTION:Looking for free family activities in London? Look no further! \n \nThe National Gallery’s Roden Centre for Creative Learning offers a vibrant space for all ages to explore\, create\, and imagine for free. Uncover one of the UK’s largest gallery learning centres and enjoy an exciting range of hands-on activities inspired by the National Gallery’s iconic paintings. \n \nDesigned with children for children\, the Centre is a much-needed cultural hub for young imaginations to thrive. There’s no need to book; drop in on weekends and school holidays to experiment\, discover\, and have fun with art. \nDive into a world of creativity at the Roden Centre for Creative learning – learn more here! \nImages © Ben McMillan 2025.
URL:https://www.funkidslive.com/event/a-new-space-for-creativity-opens-at-the-national-gallery-this-weekend/
LOCATION:National Gallery\, Trafalgar Square\, London\, WC2N 5DN\, United Kingdom
END:VEVENT
END:VCALENDAR