BEGIN:VCALENDAR
VERSION:2.0
PRODID:-//Fun Kids - the UK&#039;s children&#039;s radio station - ECPv6.9.0//NONSGML v1.0//EN
CALSCALE:GREGORIAN
METHOD:PUBLISH
X-WR-CALNAME:Fun Kids - the UK&#039;s children&#039;s radio station
X-ORIGINAL-URL:https://www.funkidslive.com
X-WR-CALDESC:Events for Fun Kids - the UK&#039;s children&#039;s radio station
REFRESH-INTERVAL;VALUE=DURATION:PT1H
X-Robots-Tag:noindex
X-PUBLISHED-TTL:PT1H
BEGIN:VTIMEZONE
TZID:Europe/London
BEGIN:DAYLIGHT
TZOFFSETFROM:+0000
TZOFFSETTO:+0100
TZNAME:BST
DTSTART:20170326T010000
END:DAYLIGHT
BEGIN:STANDARD
TZOFFSETFROM:+0100
TZOFFSETTO:+0000
TZNAME:GMT
DTSTART:20171029T010000
END:STANDARD
END:VTIMEZONE
BEGIN:VEVENT
DTSTART;TZID=Europe/London:20171201T120000
DTEND;TZID=Europe/London:20171231T233000
DTSTAMP:20260421T180537
CREATED:20171124T163640Z
LAST-MODIFIED:20171124T164000Z
UID:1084671-1512129600-1514763000@www.funkidslive.com
SUMMARY:Greenwich Winter Time Festival at Old Royal Naval College\, London
DESCRIPTION:There’s a brand-new festive\, family festival coming to London this December! \nThe Greenwich Winter Time Festival will be taking place in the grounds of the famous Old Royal Naval College in Greenwich\, South East London from 1st to 31st December 2017. \nThere’s loads of magical Christmas activities and entertainment planned\, with 3-hour sessions each day and a line-up of daytime and evening events. \nEntering the festival you will be welcomed by actors\, musicians\, jugglers and magicians who will entertain and lead you through the experience! \n \nThe Greenwich Winter Time Ice Rink will host skilled freestyle ice-skaters who will open each skating session with an exhilarating show of jaw-dropping dancing on ice! \nAfter the performance\, you’ll be able to join them on the ice and skate under the stars\, listening to music composed by students from Trinity Laban Conservatoire. \nHoused under a giant canopy\, the Mirror Stage is where you can check out the main live programme of performers\, bands\, DJs and choirs. \n \nThe line-up includes The East London Brass group who’ll be performing live to accompany Christmas classic The Snowman – which will be projected on huge screens for the whole family to enjoy – and a stage adaptation of Nicholas Allan’s The Giant’s Loo Roll! \nPlus\, a spectacular Father Christmas Experience will allow families to join him in his magical ‘launch pad’ at the start of his busy Christmas journey! \nMore acts are still to be announced\, and the festival will culminate in a spectacular closing night gala on New Year’s Eve. \n \nAround the site\, there’ll also be a selection of street food and seasonal treats for you to try – and you can buy gifts in the Christmas market too! \nGreenwich Winter Time Festival runs from 1–31 December\, with tickets from £15 for adults and £8 for children. \nClick here for the full programme and to book tickets!
URL:https://www.funkidslive.com/event/greenwich-winter-time-festival-old-royal-naval-college-london/
LOCATION:Old Royal Naval College\, King William Walk\, Greenwich\, London\, SE10 9NN\, United Kingdom
CATEGORIES:Festival
GEO:51.4811281;-0.0080615
X-APPLE-STRUCTURED-LOCATION;VALUE=URI;X-ADDRESS=Old Royal Naval College King William Walk Greenwich London SE10 9NN United Kingdom;X-APPLE-RADIUS=500;X-TITLE=King William Walk\, Greenwich:geo:-0.0080615,51.4811281
END:VEVENT
END:VCALENDAR