BEGIN:VCALENDAR
VERSION:2.0
PRODID:-//Fun Kids - the UK&#039;s children&#039;s radio station - ECPv6.9.0//NONSGML v1.0//EN
CALSCALE:GREGORIAN
METHOD:PUBLISH
X-WR-CALNAME:Fun Kids - the UK&#039;s children&#039;s radio station
X-ORIGINAL-URL:https://www.funkidslive.com
X-WR-CALDESC:Events for Fun Kids - the UK&#039;s children&#039;s radio station
REFRESH-INTERVAL;VALUE=DURATION:PT1H
X-Robots-Tag:noindex
X-PUBLISHED-TTL:PT1H
BEGIN:VTIMEZONE
TZID:Europe/London
BEGIN:DAYLIGHT
TZOFFSETFROM:+0000
TZOFFSETTO:+0100
TZNAME:BST
DTSTART:20170326T010000
END:DAYLIGHT
BEGIN:STANDARD
TZOFFSETFROM:+0100
TZOFFSETTO:+0000
TZNAME:GMT
DTSTART:20171029T010000
END:STANDARD
BEGIN:DAYLIGHT
TZOFFSETFROM:+0000
TZOFFSETTO:+0100
TZNAME:BST
DTSTART:20180325T010000
END:DAYLIGHT
BEGIN:STANDARD
TZOFFSETFROM:+0100
TZOFFSETTO:+0000
TZNAME:GMT
DTSTART:20181028T010000
END:STANDARD
BEGIN:DAYLIGHT
TZOFFSETFROM:+0000
TZOFFSETTO:+0100
TZNAME:BST
DTSTART:20190331T010000
END:DAYLIGHT
BEGIN:STANDARD
TZOFFSETFROM:+0100
TZOFFSETTO:+0000
TZNAME:GMT
DTSTART:20191027T010000
END:STANDARD
BEGIN:DAYLIGHT
TZOFFSETFROM:+0000
TZOFFSETTO:+0100
TZNAME:BST
DTSTART:20200329T010000
END:DAYLIGHT
BEGIN:STANDARD
TZOFFSETFROM:+0100
TZOFFSETTO:+0000
TZNAME:GMT
DTSTART:20201025T010000
END:STANDARD
END:VTIMEZONE
BEGIN:VEVENT
DTSTART;VALUE=DATE:20191121
DTEND;VALUE=DATE:20200107
DTSTAMP:20260422T004140
CREATED:20191118T100032Z
LAST-MODIFIED:20191118T100032Z
UID:1095469-1574312400-1578286799@www.funkidslive.com
SUMMARY:See The Snowman at the Peacock Theatre in London!
DESCRIPTION:The enchanting festive favourite\, The Snowman\, returns for a magical 22nd year. \nBased up the book by Raymond Briggs and produced by John Coates\, this charming stage adaptation is guaranteed to transport you to a world of wintery adventure. \nWith music and lyrics by Howard Blake\, including Walking in the Air\, choreography by Robert North\, directed by Bill Alexander\, alongside Ruari Murchison’s enchanting design combined with Tim Mitchell’s spectacular lighting\, The Snowman continues to enchant audiences with a captivating mix of dance\, live music\, storytelling\, spectacle and magic. \nClick here to book your tickets!
URL:https://www.funkidslive.com/event/see-the-snowman-at-the-peacock-theatre-in-london/
LOCATION:Peacock Theatre\, Peacock Theatre\, Portugal St\, London\, WC2A 2HT\, United Kingdom
CATEGORIES:Christmas
GEO:51.5143901;-0.1177433
X-APPLE-STRUCTURED-LOCATION;VALUE=URI;X-ADDRESS=Peacock Theatre Peacock Theatre Portugal St London WC2A 2HT United Kingdom;X-APPLE-RADIUS=500;X-TITLE=Peacock Theatre\, Portugal St:geo:-0.1177433,51.5143901
END:VEVENT
BEGIN:VEVENT
DTSTART;VALUE=DATE:20181122
DTEND;VALUE=DATE:20190108
DTSTAMP:20260422T004140
CREATED:20181112T120820Z
LAST-MODIFIED:20181112T120820Z
UID:1090873-1542862800-1546837199@www.funkidslive.com
SUMMARY:The Snowman is now showing at The Peacock Theatre in London until January 6th 2019!
DESCRIPTION:Twinkling with festive spirit\, The Snowman returns for a record-breaking 21st year at The Peacock Theatre in London! \nIt’s based upon the book by Raymond Briggs and the film from Dianne Jackson and John Coates. \nThey’ve transported a generation of children and their families into the wintery world of a boy and his magical snowman\, and this stage show is no different! \nThe Snowman is a heart-warming mix of dance\, storytelling\, splendid sets and music performed by a live orchestra. \n \nWith music and lyrics by Howard Blake – including Walking in the Air – design by Ruari Murchison\, lighting by Tim Mitchell\, virtuoso choreography by Robert North and direction by Bill Alexander. \nTickets are available from £15 with performances from November 22nd to January 6th 2019. \nClick here to get tickets!
URL:https://www.funkidslive.com/event/the-snowman-is-now-showing-at-the-peacock-theatre-in-london-until-january-6th-2019/
LOCATION:Peacock Theatre\, Peacock Theatre\, Portugal St\, London\, WC2A 2HT\, United Kingdom
CATEGORIES:Christmas
GEO:51.5143901;-0.1177433
X-APPLE-STRUCTURED-LOCATION;VALUE=URI;X-ADDRESS=Peacock Theatre Peacock Theatre Portugal St London WC2A 2HT United Kingdom;X-APPLE-RADIUS=500;X-TITLE=Peacock Theatre\, Portugal St:geo:-0.1177433,51.5143901
END:VEVENT
BEGIN:VEVENT
DTSTART;VALUE=DATE:20171123
DTEND;VALUE=DATE:20180202
DTSTAMP:20260422T004140
CREATED:20171107T103728Z
LAST-MODIFIED:20171107T103728Z
UID:1084032-1511413200-1517461199@www.funkidslive.com
SUMMARY:The Snowman on stage at Peacock Theatre\, London!
DESCRIPTION:Twinkling with festive spirit The Snowman is now celebrating 20 consecutive years on the stage! \nBased upon the book by Raymond Briggs and the film directed by Dianne Jackson and produced by John Coates which has transported a generation of children and their families into the wintery world of a boy and his magical snowman. \nWith music and lyrics by Howard Blake\, including Walking in the Air\, design by Ruari Murchison\, lighting by Tim Mitchell\, virtuoso choreography by Robert North and direction by Bill Alexander. \nThe Snowman is a magical mix of exquisite dancing\, storytelling\, splendid sets and music performed by a live orchestra. \nClick here to find out more!
URL:https://www.funkidslive.com/event/snowman-stage-peacock-theatre-london/
LOCATION:Peacock Theatre\, Peacock Theatre\, Portugal St\, London\, WC2A 2HT\, United Kingdom
CATEGORIES:Shows
GEO:51.5143901;-0.1177433
X-APPLE-STRUCTURED-LOCATION;VALUE=URI;X-ADDRESS=Peacock Theatre Peacock Theatre Portugal St London WC2A 2HT United Kingdom;X-APPLE-RADIUS=500;X-TITLE=Peacock Theatre\, Portugal St:geo:-0.1177433,51.5143901
END:VEVENT
END:VCALENDAR