BEGIN:VCALENDAR
VERSION:2.0
PRODID:-//Fun Kids - the UK&#039;s children&#039;s radio station - ECPv6.9.0//NONSGML v1.0//EN
CALSCALE:GREGORIAN
METHOD:PUBLISH
X-WR-CALNAME:Fun Kids - the UK&#039;s children&#039;s radio station
X-ORIGINAL-URL:https://www.funkidslive.com
X-WR-CALDESC:Events for Fun Kids - the UK&#039;s children&#039;s radio station
REFRESH-INTERVAL;VALUE=DURATION:PT1H
X-Robots-Tag:noindex
X-PUBLISHED-TTL:PT1H
BEGIN:VTIMEZONE
TZID:Europe/London
BEGIN:DAYLIGHT
TZOFFSETFROM:+0000
TZOFFSETTO:+0100
TZNAME:BST
DTSTART:20210328T010000
END:DAYLIGHT
BEGIN:STANDARD
TZOFFSETFROM:+0100
TZOFFSETTO:+0000
TZNAME:GMT
DTSTART:20211031T010000
END:STANDARD
BEGIN:DAYLIGHT
TZOFFSETFROM:+0000
TZOFFSETTO:+0100
TZNAME:BST
DTSTART:20220327T010000
END:DAYLIGHT
BEGIN:STANDARD
TZOFFSETFROM:+0100
TZOFFSETTO:+0000
TZNAME:GMT
DTSTART:20221030T010000
END:STANDARD
END:VTIMEZONE
BEGIN:VEVENT
DTSTART;TZID=Europe/London:20220212T140000
DTEND;TZID=Europe/London:20220212T170000
DTSTAMP:20260422T004259
CREATED:20220112T151744Z
LAST-MODIFIED:20220112T151903Z
UID:1105597-1644674400-1644685200@www.funkidslive.com
SUMMARY:Tweedy's Lost Property
DESCRIPTION:Coming back to the Pegasus stage once again\, it’s family favourite TWEEDY – the comedy and slapstick legend and star of Gifford’s Circus\, Cirque Berserk and the Cheltenham Everyman pantomime! \n\n\n\n\n\n\n\n\n\n\n\n\n\n\n\nTweedy’s Lost Property follows Tweedy the Clown. Feeling a bit lost\, he gets a job in a Lost Property Office – only to find the lost property has a mind of its own!\n\n\n\nIn this hilarious one-man\, family show\, Tweedy illustrates an impressive repertoire of comedic talents which have made him one of the most respected and popular clowns the country currently has to offer.\n\n\n\nNo matter what he does\, Tweedy seems to get into a mess\, but to the delight of audiences of all ages he can always find a creative way to get out of it. Tweedy will never get too big for his pants\, his pants will always be too big for him.\n\n\n\n‘The brilliant Tweedy […] had the audience crying with laughter’ – THE SUNDAY TELEGRAPH\n\n\nFor ages 6+\n\n\n\nRunning time: 70 minutes (no interval)\n\n\n\n\n\n\n\n\n\n\n\n\n\nMake sure to book in advance! If the show is cancelled or you’re unable to make it for any COVID-19-related reasons\, we will offer a no-quibble full refund.
URL:https://www.funkidslive.com/event/tweedys-lost-property/
LOCATION:Pegasus Theatre\, Magdalen Road\, Oxford\, OX4 1RE\, United Kingdom
CATEGORIES:Shows
ATTACH;FMTTYPE=image/png:https://www.funkidslive.com/wp-content/uploads/2022/01/tweedys-lost-property.png
END:VEVENT
BEGIN:VEVENT
DTSTART;TZID=Europe/London:20220212T113000
DTEND;TZID=Europe/London:20220212T143000
DTSTAMP:20260422T004259
CREATED:20220112T152359Z
LAST-MODIFIED:20220112T152414Z
UID:1105599-1644665400-1644676200@www.funkidslive.com
SUMMARY:Family Dance Party
DESCRIPTION:Pegasus’ family favourite Dancin’ Oxford is back with Family Dance Party! This is the newer\, snazzier\, even dancier version of our ever-popular Baby Boogie sessions. \n\n\n\n\n\n\n\n\n\n\n\n\n\n\n\nWith a magical mix of music played live by our DJ\, the funkiest lighting\, and bubbles and games galore\, you’ll see why these sessions have been entertaining Oxford for over 9 years. There’s even a creative workshop beforehand for anyone who wants to learn new moves. \n\n\n\nPut on your dancing shoes\, bring your little ones\, and prepare to have the best disco ever! \n\n\nDisco sessions start at 11:30am and 2:30pm. If you fancy the workshop arrive an hour earlier at 10:30am or 1:30pm. The workshops are 45 minutes long followed by a 15 minute break.\n\n\n\nPlaces £5 per person\, or £7 per person with the workshop. Babes in arms (under 6 months) come free! \n\n\n\n\n\nRunning time: 60 mins\, or 120 mins with the workshop \n\n\n\n\n\n\n\n\n\n\n\n\n\n\n\n\n\n\n\nMake sure to book in advance – these sessions sell out! If the show is cancelled or you are unable to make it for any COVID-19-related reasons\, we will offer a no-quibble full refund.
URL:https://www.funkidslive.com/event/family-dance-party/
LOCATION:Pegasus Theatre\, Magdalen Road\, Oxford\, OX4 1RE\, United Kingdom
CATEGORIES:Shows
ATTACH;FMTTYPE=image/png:https://www.funkidslive.com/wp-content/uploads/2022/01/family-dance-party.png
END:VEVENT
BEGIN:VEVENT
DTSTART;TZID=Europe/London:20220205T110000
DTEND;TZID=Europe/London:20220205T140000
DTSTAMP:20260422T004259
CREATED:20220112T151302Z
LAST-MODIFIED:20220112T151302Z
UID:1105595-1644058800-1644069600@www.funkidslive.com
SUMMARY:Mango & Mr Whatsit
DESCRIPTION:Do you have an imaginary friend? A little piece of mischief only you can see? \n\n\n\n\n\n\n\n\n\n\n\n\n\n\nSophia’s imaginary friend is called Mr. Whatsit. No matter where Sophia finds herself living\, he’s always there with a new joke to tell and a new game to play. \n\n\n\nBut when Sophia moves into her new foster home\, Mr Whatsit finds himself unimagined! \n\nNow Sophia has a new imaginary friend – the glamourous\, grown up Margo. \n\n\n\nCan Mr. Whatsit’s childish playfulness keep him from being unimagined for good? And with her imaginary friends competing against each other\, will Sophia manage to find her forever home? \n\n\n\nPaddleBoat Theatre Company present an interactive make-believe tale where the real and imaginary collide\, and friends are never far away.  \n\n\n\nFor ages 3+ \n\n\nRunning time: 55 mins\, no interval \n\n\n\n\n\n\n\n\n\n\n\n\n\nMake sure to book in advance! If the show is cancelled for any COVID-19-related reasons\, we will offer a no-quibble full refund.
URL:https://www.funkidslive.com/event/mango-mr-whatsit/
LOCATION:Pegasus Theatre\, Magdalen Road\, Oxford\, OX4 1RE\, United Kingdom
CATEGORIES:Shows
ATTACH;FMTTYPE=image/png:https://www.funkidslive.com/wp-content/uploads/2022/01/mango-and-mr-whatsit.png
END:VEVENT
BEGIN:VEVENT
DTSTART;TZID=Europe/London:20220129T110000
DTEND;TZID=Europe/London:20220129T140000
DTSTAMP:20260422T004259
CREATED:20220112T150629Z
LAST-MODIFIED:20220112T150629Z
UID:1105592-1643454000-1643464800@www.funkidslive.com
SUMMARY:Peanut Butter Pirates
DESCRIPTION:Pegasus-favourite Emma Boor is setting sail across the kitchen to recover her stolen treasure from naughty Peanut Butter Pirates! \n\n\n\n\n\n\n\n\n\n\n\n\n\n\nA show with songs\, music\, puppetry and lots of nutty behaviour\, perfect for 2-7 year olds and their families!\n\n\nNote: This show contains NO real nuts\, only puppet nuts!\n\n\nFor ages 2-7\n\n\nRunning time: 45 minutes\n\n\n\n\n\n\n\n\n\n\n\n\n\nMake sure to book in advance! If the show is cancelled or you’re unable to make it for any COVID-19-related reasons\, we will offer a no-quibble full refund.
URL:https://www.funkidslive.com/event/peanut-butter-pirates/
LOCATION:Pegasus Theatre\, Magdalen Road\, Oxford\, OX4 1RE\, United Kingdom
CATEGORIES:Shows
ATTACH;FMTTYPE=image/png:https://www.funkidslive.com/wp-content/uploads/2022/01/Peanut-Butter-Pirates.png
END:VEVENT
BEGIN:VEVENT
DTSTART;VALUE=DATE:20211211
DTEND;VALUE=DATE:20211225
DTSTAMP:20260422T004259
CREATED:20211104T140741Z
LAST-MODIFIED:20211104T140931Z
UID:1104707-1639198800-1640321999@www.funkidslive.com
SUMMARY:Margot's Magical Winter Wonder Party
DESCRIPTION:Margot’s Magical Winter Wonder Party is a party like no other. The award-winning Filskit Theatre (Breaking the Ice) brings you an enchanting show is inspired by the extraordinary world events we’ve all experienced and reflects on how far we’ve come since 2020.   \n\n\nIt’s a celebration of the here and now – using physical comedy\, original music\, magical lights and puppetry as we collectively celebrate being back at the theatre. Join Margot and her cat Simon at Pegasus Theatre this winter and get ready to dance in your seats for the party of the year.   \n\n\nRunning time: approx 50 mins\, no interval. \n\n\nRSVP to the party in advance. If the show is cancelled or you’re unable to make it for any COVID-19-related reasons\, we will offer a no-quibble full refund.  \n\n\nThis show is also available for primary schools to book\, from 9-16 December 2021. To find out more\, please contact dutymanager@pegasustheatre.org.uk or call 01865 812 150.  \n\n\nSponsored by Firstline IT.
URL:https://www.funkidslive.com/event/margots-magical-winter-wonder-party/
LOCATION:Pegasus Theatre\, Magdalen Road\, Oxford\, OX4 1RE\, United Kingdom
END:VEVENT
BEGIN:VEVENT
DTSTART;VALUE=DATE:20211030
DTEND;VALUE=DATE:20211101
DTSTAMP:20260422T004259
CREATED:20211004T132434Z
LAST-MODIFIED:20211004T133225Z
UID:1104249-1635570000-1635656399@www.funkidslive.com
SUMMARY:We All Wobble
DESCRIPTION:Your favourite clowns are back at Pegasus\, here to ask you to pass the lemonade! From the award-winning company Acá Theatre\, come and see two lovable clowns weebling and wobbling their way through a chaotic picnic. \nThis life-sized roly poly spectacle is full of hilarious slapstick\, near misses\, and messy chaos for the whole family. A bold and colourful performance celebrating the wobbly-ness of life\, because we all wobble! \n“An abundance of silly acrobatic fun” – Edinburgh Festival for Kids  \nFor ages 4+. \nRunning time: 30 mins\, no interval. \nTime: 11:00am\, 2:00pm \nMake sure to book in advance! If the show is cancelled for any COVID-19-related reasons\, we will offer a no-quibble full refund.
URL:https://www.funkidslive.com/event/we-all-wobble/
LOCATION:Pegasus Theatre\, Magdalen Road\, Oxford\, OX4 1RE\, United Kingdom
END:VEVENT
BEGIN:VEVENT
DTSTART;VALUE=DATE:20211023
DTEND;VALUE=DATE:20211025
DTSTAMP:20260422T004259
CREATED:20211004T132235Z
LAST-MODIFIED:20211004T132235Z
UID:1104248-1634965200-1635051599@www.funkidslive.com
SUMMARY:Club Origami
DESCRIPTION:Little Big Dance is coming to Pegasus for the first time with Takeshi Matsumoto’s Club Origami: here to rip\, fold\, and scrumple! Scrunch the paper and see how your imagination begins to dance in this immersive and interactive show. \nDive into the magical world of Club Origami\, where you and your family explore whole new ways of thinking\, playing\, and moving. Come and see a mixture of dance\, live music\, and fashion meet the magic of origami as you’re swept away on an adventure to a land made of paper and play. \nFor ages 5 and under. \nRunning time: 40 mins plus 10 mins stay and play. \nTime: 11:00am\, 12:30pm\, 2:30pm \nMake sure to book in advance! If the show is cancelled for any COVID-19-related reasons\, we will offer a no-quibble full refund.
URL:https://www.funkidslive.com/event/club-origami/
LOCATION:Pegasus Theatre\, Magdalen Road\, Oxford\, OX4 1RE\, United Kingdom
END:VEVENT
BEGIN:VEVENT
DTSTART;TZID=Europe/London:20211016T120000
DTEND;TZID=Europe/London:20211016T150000
DTSTAMP:20260422T004259
CREATED:20210909T141703Z
LAST-MODIFIED:20210909T141757Z
UID:1104115-1634385600-1634396400@www.funkidslive.com
SUMMARY:Ensonglopedia of the Human
DESCRIPTION:Award-winning science-singer-songwriter John Hinton is coming to Pegasus to answer the question: what does it mean to be human? \nJohn has not one answer\, but twenty-six: one for each letter of the alphabet\, and he’s turned them all into comedy song. In an era when we’ve had a lot of time to ponder who we are\, where we come from\, and where we’re headed\, John presents a light-hearted musical look at the anatomy\, evolution\, habits and quirks of that strange species\, the Homo sapiens. \n“John Hinton is an absolute joy… This guy could get anyone interested in science” (Adelaide Theatre Guide) \nSuitable for ages 7+ \nRunning time: 60 mins\, no interval \nMake sure to book in advance! If the show is cancelled or you are unable to make it for any COVID-19-related reasons\, we will offer a no-quibble full refund.
URL:https://www.funkidslive.com/event/ensonglopedia-of-the-human/
LOCATION:Pegasus Theatre\, Magdalen Road\, Oxford\, OX4 1RE\, United Kingdom
END:VEVENT
BEGIN:VEVENT
DTSTART;TZID=Europe/London:20211009T150000
DTEND;TZID=Europe/London:20211009T160000
DTSTAMP:20260422T004259
CREATED:20210909T140948Z
LAST-MODIFIED:20210909T142341Z
UID:1104113-1633791600-1633795200@www.funkidslive.com
SUMMARY:Comedy Club 4 Kids
DESCRIPTION:It’s a comedy club\, right\, but for kids. Also any adults who enjoy a swear-free hour with the international circuit’s best stand-ups and sketch acts. Non-patronising. Pure awesome. \nSince 2005\, the Comedy Club 4 Kids has been getting the best stand-ups and sketch acts from the international circuit to do their thing for an audience of children and their families… but without the rude bits! The show is family friendly\, but without any patronising idiocy. In fact\, it’s just like a normal comedy club\, but it’s on in the day\, kids are allowed in\, and thus there is a higher than usual chance of heckles like “why is that your face!?” \n“A highlight for children in recent years\, giving them a taste of some of the biggest names in comedy… with the fun\, rowdy feel of a real comedy club” – The Guardian  \nFor ages 6+ \nRunning time: 60 mins\, no interval \nMake sure you book tickets in advance. If the show is cancelled or you’re unable to make it for any COVID-19-related reasons\, we will offer a no-quibble full refund.
URL:https://www.funkidslive.com/event/comedy-club-4-kids/
LOCATION:Pegasus Theatre\, Magdalen Road\, Oxford\, OX4 1RE\, United Kingdom
END:VEVENT
BEGIN:VEVENT
DTSTART;VALUE=DATE:20210902
DTEND;VALUE=DATE:20210904
DTSTAMP:20260422T004259
CREATED:20210825T111943Z
LAST-MODIFIED:20210825T111943Z
UID:1104000-1630558800-1630645199@www.funkidslive.com
SUMMARY:Treetop Restaurant
DESCRIPTION:Yum yum! Come and visit the Treetop Restaurant with Pegasus family favourite Wild Boor Ideas\, and see what tasty treats Emma is serving up to all the local animals! \nWant to try some Sycamore Sausages\, or Juniper Jelly? Why not a bit of Oak Leaf Ice Cream? Whatever you fancy\, it’s always a good time at the Treetop! \nMeet with Emma’s favourite wiggly customer\, and see his appetite grow and grow – along with his body! This show has a magical mix of puppetry\, gentle clowning\, and interactive fun. \nSuitable for ages 3+ \nRunning time: 45 minutes\, no interval. \nTime: 11:00am and 2:00pm \nBe sure to make a reservation at the Treetop Restaurant in advance. If the show is cancelled for any COVID-19-related reasons\, we will offer a no-quibble full refund. \nGet your ticket here!
URL:https://www.funkidslive.com/event/treetop-restaurant/
LOCATION:Pegasus Theatre\, Magdalen Road\, Oxford\, OX4 1RE\, United Kingdom
END:VEVENT
END:VCALENDAR