BEGIN:VCALENDAR
VERSION:2.0
PRODID:-//Fun Kids - the UK&#039;s children&#039;s radio station - ECPv6.9.0//NONSGML v1.0//EN
CALSCALE:GREGORIAN
METHOD:PUBLISH
X-WR-CALNAME:Fun Kids - the UK&#039;s children&#039;s radio station
X-ORIGINAL-URL:https://www.funkidslive.com
X-WR-CALDESC:Events for Fun Kids - the UK&#039;s children&#039;s radio station
REFRESH-INTERVAL;VALUE=DURATION:PT1H
X-Robots-Tag:noindex
X-PUBLISHED-TTL:PT1H
BEGIN:VTIMEZONE
TZID:Europe/London
BEGIN:DAYLIGHT
TZOFFSETFROM:+0000
TZOFFSETTO:+0100
TZNAME:BST
DTSTART:20170326T010000
END:DAYLIGHT
BEGIN:STANDARD
TZOFFSETFROM:+0100
TZOFFSETTO:+0000
TZNAME:GMT
DTSTART:20171029T010000
END:STANDARD
END:VTIMEZONE
BEGIN:VEVENT
DTSTART;TZID=Europe/London:20170916T110000
DTEND;TZID=Europe/London:20170917T170000
DTSTAMP:20260422T005759
CREATED:20170912T151808Z
LAST-MODIFIED:20170912T151808Z
UID:1081979-1505559600-1505667600@www.funkidslive.com
SUMMARY:Roald Dahl Day at the Roald Dahl Museum!
DESCRIPTION:Today is Roald Dahl Day and if you love Roald Dahls’ stories\, the best place to go is the Roald Dahl Museum and Story Centre in Great Missenden. \nThat’s the village between Aylesbury and High Wycombe where the author lived and wrote for 36 years. \nThere’s three fun galleries to explore! \nFind out about Roald Dahl’s childhood\, his love of chocolate and his schoolboy pranks. Rummage through Roald Dahl’s family photos\, find the mouse in the gobstopper jar and smell the giant chocolate doors. \nYou can also see Roald Dahl’s actual Writing Hut\, make a stop-frame animation\, and there’s a cafe and shop for you to check out afterwards. \nMuseum admission is £6.60 per day\, children £4.40 per day. \nClick here to find out more!
URL:https://www.funkidslive.com/event/roald-dahl-day-roald-dahl-museum/
LOCATION:Roald Dahl Museum\, 81-83 High St\, Great Missenden\, HP16 0AL\, United Kingdom
CATEGORIES:Exhibition
GEO:51.7028218;-0.7064402
X-APPLE-STRUCTURED-LOCATION;VALUE=URI;X-ADDRESS=Roald Dahl Museum 81-83 High St Great Missenden HP16 0AL United Kingdom;X-APPLE-RADIUS=500;X-TITLE=81-83 High St:geo:-0.7064402,51.7028218
END:VEVENT
END:VCALENDAR