BEGIN:VCALENDAR
VERSION:2.0
PRODID:-//Fun Kids - the UK&#039;s children&#039;s radio station - ECPv6.9.0//NONSGML v1.0//EN
CALSCALE:GREGORIAN
METHOD:PUBLISH
X-ORIGINAL-URL:https://www.funkidslive.com
X-WR-CALDESC:Events for Fun Kids - the UK&#039;s children&#039;s radio station
REFRESH-INTERVAL;VALUE=DURATION:PT1H
X-Robots-Tag:noindex
X-PUBLISHED-TTL:PT1H
BEGIN:VTIMEZONE
TZID:Europe/London
BEGIN:DAYLIGHT
TZOFFSETFROM:+0000
TZOFFSETTO:+0100
TZNAME:BST
DTSTART:20180325T010000
END:DAYLIGHT
BEGIN:STANDARD
TZOFFSETFROM:+0100
TZOFFSETTO:+0000
TZNAME:GMT
DTSTART:20181028T010000
END:STANDARD
BEGIN:DAYLIGHT
TZOFFSETFROM:+0000
TZOFFSETTO:+0100
TZNAME:BST
DTSTART:20190331T010000
END:DAYLIGHT
BEGIN:STANDARD
TZOFFSETFROM:+0100
TZOFFSETTO:+0000
TZNAME:GMT
DTSTART:20191027T010000
END:STANDARD
BEGIN:DAYLIGHT
TZOFFSETFROM:+0000
TZOFFSETTO:+0100
TZNAME:BST
DTSTART:20200329T010000
END:DAYLIGHT
BEGIN:STANDARD
TZOFFSETFROM:+0100
TZOFFSETTO:+0000
TZNAME:GMT
DTSTART:20201025T010000
END:STANDARD
BEGIN:DAYLIGHT
TZOFFSETFROM:+0000
TZOFFSETTO:+0100
TZNAME:BST
DTSTART:20210328T010000
END:DAYLIGHT
BEGIN:STANDARD
TZOFFSETFROM:+0100
TZOFFSETTO:+0000
TZNAME:GMT
DTSTART:20211031T010000
END:STANDARD
BEGIN:DAYLIGHT
TZOFFSETFROM:+0000
TZOFFSETTO:+0100
TZNAME:BST
DTSTART:20220327T010000
END:DAYLIGHT
BEGIN:STANDARD
TZOFFSETFROM:+0100
TZOFFSETTO:+0000
TZNAME:GMT
DTSTART:20221030T010000
END:STANDARD
BEGIN:DAYLIGHT
TZOFFSETFROM:+0000
TZOFFSETTO:+0100
TZNAME:BST
DTSTART:20230326T010000
END:DAYLIGHT
BEGIN:STANDARD
TZOFFSETFROM:+0100
TZOFFSETTO:+0000
TZNAME:GMT
DTSTART:20231029T010000
END:STANDARD
BEGIN:DAYLIGHT
TZOFFSETFROM:+0000
TZOFFSETTO:+0100
TZNAME:BST
DTSTART:20240331T010000
END:DAYLIGHT
BEGIN:STANDARD
TZOFFSETFROM:+0100
TZOFFSETTO:+0000
TZNAME:GMT
DTSTART:20241027T010000
END:STANDARD
END:VTIMEZONE
BEGIN:VEVENT
DTSTART;VALUE=DATE:20241208
DTEND;VALUE=DATE:20241210
DTSTAMP:20260421T114010
CREATED:20241118T094139Z
LAST-MODIFIED:20241118T094549Z
UID:1122461-1733634000-1733720399@www.funkidslive.com
SUMMARY:My Christmas Orchestral Adventure at Royal Albert Hall!
DESCRIPTION:Calling Santa’s little helpers! \nMy Christmas Orchestral Adventure returns this December at the Royal Albert Hall for more family festivities! \n\nOh no! Father Christmas is due at the biggest Christmas concert in the whole world but conductor Tim has lost his Christmas spirit. \n\nJoin his brother Tom\, Albert’s Orchestra\, National Youth Choir of Great Britain and a cast of special guests as they take Tim through Christmas’s past\, present and future to try and bring his Christmas cheer back in time to meet Father Christmas! \nGet your tickets here!
URL:https://www.funkidslive.com/event/my-christmas-orchestral-adventure-at-royal-albert-hall/
LOCATION:Royal Albert Hall\, Kensington Gore\, London\, SW7 2AP\, United Kingdom
END:VEVENT
BEGIN:VEVENT
DTSTART;VALUE=DATE:20240705
DTEND;VALUE=DATE:20240708
DTSTAMP:20260421T114010
CREATED:20240523T104601Z
LAST-MODIFIED:20240523T104601Z
UID:1121142-1720155600-1720328399@www.funkidslive.com
SUMMARY:The Lion King at Royal Albert Hall
DESCRIPTION:Celebrate the 30th Anniversary of The Lion King with this Films in Concert spectacular. \nExperience the original animated classic roaring from the big screen\, all whilst Hans Zimmer’s Oscar®-winning score is performed live to picture. \n Featuring Chineke! Orchestra and London Community Gospel Choir\, conducted by Sarah Hicks.  Plus\, special guests from the West End will join to celebrate 25 years of the stage musical.   \nThe Lion King follows the powerful story of Simba as he journeys from a wide-eyed cub to his destined role as King of the Pridelands with glorious colours and enchanting music.
URL:https://www.funkidslive.com/event/the-lion-king-at-royal-albert-hall/
LOCATION:Royal Albert Hall\, Kensington Gore\, London\, SW7 2AP\, United Kingdom
END:VEVENT
BEGIN:VEVENT
DTSTART;VALUE=DATE:20221211
DTEND;VALUE=DATE:20221213
DTSTAMP:20260421T114010
CREATED:20221124T125700Z
LAST-MODIFIED:20221124T125700Z
UID:1113764-1670734800-1670821199@www.funkidslive.com
SUMMARY:Royal Albert Hall presents My Christmas Orchestral Adventure
DESCRIPTION:Calling Santa’s little helpers!  \nMy Christmas Orchestral Adventure returns in 2022 and Albert’s Orchestra is poised and ready for a magical journey through classical music. \n \nOh no! Father Christmas has lost his map on a practice run of his delivery route! Thankfully the Royal Albert Hall’s trusty ensemble has found it but they need your help to return it to him ahead of the big day! \nWe need to zip around the world on an orchestral adventure to track him down. \nAlong the way we’ll ice skate on frozen lakes\, go on a sleigh ride and enjoy a white Christmas\, all without leaving the Royal Albert Hall’s magical auditorium. \nA full symphony orchestra will bring the adventure to life! \nWill you help Albert’s Orchestra save Christmas? \nClick here to book
URL:https://www.funkidslive.com/event/royal-albert-hall-presents-my-christmas-orchestral-adventure/
LOCATION:Royal Albert Hall\, Kensington Gore\, London\, SW7 2AP\, United Kingdom
END:VEVENT
BEGIN:VEVENT
DTSTART;VALUE=DATE:20191205
DTEND;VALUE=DATE:20191224
DTSTAMP:20260421T114010
CREATED:20181115T100306Z
LAST-MODIFIED:20191118T100010Z
UID:1090951-1575522000-1577077199@www.funkidslive.com
SUMMARY:Visit Father Christmas' top-secret HQ at the Royal Albert Hall this Christmas!
DESCRIPTION:Come and meet Father Christmas at his top-secret London headquarters\, the Royal Albert Hall! \nOnce upon a time\, nearly 150 years ago\, Father Christmas and his workshop elves used Christmas magic to enchant the Royal Albert Hall and turn it into their secret London Headquarters… but this year\, the elves are a little behind schedule! \nFather Christmas needs some very special little helpers to visit his HQ\, where they’ll learn Christmas magic\, see the real sleigh and help the elves make enough toys in time for Christmas Eve! \nIn this hour long interactive experience\, little helpers will journey through spaces within the historic Royal Albert Hall and meet a range of magical characters all the way from the North Pole. \nThere are including toy soldiers\, fairies\, workshop elves\, toymakers and of course\, the real Father Christmas. \nWHAT’S INCLUDED? \nYou’ll get an hour-long Christmas experience within the historic Royal Albert Hall\, packed with a cast of magical\, entertaining characters hosting fun activities! \nYou’ll get a chance to sit in Father Christmas’ real sleigh and you’ll even get a unique and magical gift from the real Father Christmas! \nClick here to get tickets!  \nThe experience can be enjoyed by all ages and is most suitable for children ages 3-8. Accompanying adults go free (maximum of 2 adults per child) \nAll children must be accompanied by an adult at all times. Photo souvenirs with Father Christmas will be available for sale. Customers are very welcome to take their own photos as well. \nThe experience will be wheelchair accessible.
URL:https://www.funkidslive.com/event/visit-father-christmas-top-secret-hq-at-the-royal-albert-hall-this-christmas/
LOCATION:Royal Albert Hall\, Kensington Gore\, London\, SW7 2AP\, United Kingdom
CATEGORIES:Christmas
END:VEVENT
BEGIN:VEVENT
DTSTART;VALUE=DATE:20181222
DTEND;VALUE=DATE:20181224
DTSTAMP:20260421T114010
CREATED:20181119T101056Z
LAST-MODIFIED:20181121T151113Z
UID:1091060-1545454800-1545541199@www.funkidslive.com
SUMMARY:See Home Alone In Concert at the Royal Albert Hall!
DESCRIPTION:Home Alone is a hilarious film about a boy who gets left at home on his own for Christmas. It’s a classic and this year it’s being shown at the Royal Albert Hall with a live orchestra! \nThe film’s score was written by legendary composer John Williams who did the music for Harry Potter\, Star Wars and Jurassic Park! The music’s going to be performed by the Cinematic Sinfoniaand Crouch End Festival Chorus. \nGet your tickets \nIn the film Kevin (Macaulay Culkin) has to defend himself against two thieves who break into his house while his family are away. This leads to a lot of funny scenes\, amazing set-pieces and warm moments. \nHome Alone is a great film for the whole family at Christmas. \nhttps://www.youtube.com/watch?time_continue=150&v=QGOsrbgyA4c \nFind more events near you with Fantastic For Families
URL:https://www.funkidslive.com/event/see-home-alone-in-concert-at-the-royal-albert-hall/
LOCATION:Royal Albert Hall\, Kensington Gore\, London\, SW7 2AP\, United Kingdom
CATEGORIES:Christmas
END:VEVENT
BEGIN:VEVENT
DTSTART;VALUE=DATE:20181215
DTEND;VALUE=DATE:20181217
DTSTAMP:20260421T114010
CREATED:20181115T100315Z
LAST-MODIFIED:20181115T100315Z
UID:1090948-1544850000-1544936399@www.funkidslive.com
SUMMARY:My Christmas Orchestral Adventure at the Royal Albert Hall!
DESCRIPTION:Calling Santa’s little helpers! Father Christmas has lost his map on a practice run of his delivery route! \nThankfully Albert’s Orchestra has found it but they need your help to return it to him ahead of the big day! Together\, we need to zip around the world on an orchestral adventure to track down Father Christmas. \nClick here to get tickets! \nAlong the way we’ll ice skate on frozen lakes\, go on a Sleigh Ride and enjoy a white Christmas\, all without leaving the Royal Albert Hall’s magical auditorium. \nWe’ll be singing\, dancing and best of all\, a full symphony orchestra will bring our adventure to life. \nWill you help Albert’s Orchestra save Christmas? \nClick here to get tickets! \nMusic will include: \n\nTchaikovsky music from The Nutcracker\nEngelbert Humperdink music from Hansel and Gretel\nJohn Williams music from Home Alone\nLeroy Anderson Sleigh Ride\nAndy Williams It’s The Most Wonderful Time of the Year\n\n…and more festive favourites! \nClick here to get tickets! \nThere are two showings on Saturday\, 15th December 2018\, starting at 11:00am and 2:45pm. \nThe show is suitable for ages 3+. Under 3s are welcome to attend and need to have a ticket if they require a seat. Babes in arms do not need a ticket.
URL:https://www.funkidslive.com/event/my-christmas-orchestral-adventure-at-the-royal-albert-hall/
LOCATION:Royal Albert Hall\, Kensington Gore\, London\, SW7 2AP\, United Kingdom
CATEGORIES:Christmas
END:VEVENT
END:VCALENDAR