BEGIN:VCALENDAR
VERSION:2.0
PRODID:-//Fun Kids - the UK&#039;s children&#039;s radio station - ECPv6.9.0//NONSGML v1.0//EN
CALSCALE:GREGORIAN
METHOD:PUBLISH
X-WR-CALNAME:Fun Kids - the UK&#039;s children&#039;s radio station
X-ORIGINAL-URL:https://www.funkidslive.com
X-WR-CALDESC:Events for Fun Kids - the UK&#039;s children&#039;s radio station
REFRESH-INTERVAL;VALUE=DURATION:PT1H
X-Robots-Tag:noindex
X-PUBLISHED-TTL:PT1H
BEGIN:VTIMEZONE
TZID:Europe/London
BEGIN:DAYLIGHT
TZOFFSETFROM:+0000
TZOFFSETTO:+0100
TZNAME:BST
DTSTART:20170326T010000
END:DAYLIGHT
BEGIN:STANDARD
TZOFFSETFROM:+0100
TZOFFSETTO:+0000
TZNAME:GMT
DTSTART:20171029T010000
END:STANDARD
END:VTIMEZONE
BEGIN:VEVENT
DTSTART;TZID=Europe/London:20170615T100000
DTEND;TZID=Europe/London:20171201T210000
DTSTAMP:20260422T024103
CREATED:20170615T112634Z
LAST-MODIFIED:20170718T183152Z
UID:1078572-1497520800-1512162000@www.funkidslive.com
SUMMARY:See Robots at the Science Museum in London this summer!
DESCRIPTION:Explore the 500 year story of robots at the Science Museum this summer! \nFrom a 16th-century mechanical monk to robots from science fiction and modern-day research labs – you’ll see over 100 different robots! Some of the robots are actual working models! \nYou’ll also meet Cygan\, a giant Italian robot and one of the first walking two-legged robots! \n \nYou’ll also be able to see what robot life might be like in the future! \nClick here to get your tickets!
URL:https://www.funkidslive.com/event/see-robots-science-museum-london-summer/
LOCATION:Science Museum\, London\, Science Museum\, Exhibition Rd\, Kensington\, London\, SW7 2DD\, United Kingdom
CATEGORIES:Exhibition
GEO:51.4978095;-0.1745235
X-APPLE-STRUCTURED-LOCATION;VALUE=URI;X-ADDRESS=Science Museum London Science Museum Exhibition Rd Kensington London SW7 2DD United Kingdom;X-APPLE-RADIUS=500;X-TITLE=Science Museum\, Exhibition Rd\, Kensington:geo:-0.1745235,51.4978095
END:VEVENT
END:VCALENDAR