BEGIN:VCALENDAR
VERSION:2.0
PRODID:-//Fun Kids - the UK&#039;s children&#039;s radio station - ECPv6.9.0//NONSGML v1.0//EN
CALSCALE:GREGORIAN
METHOD:PUBLISH
X-ORIGINAL-URL:https://www.funkidslive.com
X-WR-CALDESC:Events for Fun Kids - the UK&#039;s children&#039;s radio station
REFRESH-INTERVAL;VALUE=DURATION:PT1H
X-Robots-Tag:noindex
X-PUBLISHED-TTL:PT1H
BEGIN:VTIMEZONE
TZID:Europe/London
BEGIN:DAYLIGHT
TZOFFSETFROM:+0000
TZOFFSETTO:+0100
TZNAME:BST
DTSTART:20170326T010000
END:DAYLIGHT
BEGIN:STANDARD
TZOFFSETFROM:+0100
TZOFFSETTO:+0000
TZNAME:GMT
DTSTART:20171029T010000
END:STANDARD
BEGIN:DAYLIGHT
TZOFFSETFROM:+0000
TZOFFSETTO:+0100
TZNAME:BST
DTSTART:20180325T010000
END:DAYLIGHT
BEGIN:STANDARD
TZOFFSETFROM:+0100
TZOFFSETTO:+0000
TZNAME:GMT
DTSTART:20181028T010000
END:STANDARD
BEGIN:DAYLIGHT
TZOFFSETFROM:+0000
TZOFFSETTO:+0100
TZNAME:BST
DTSTART:20190331T010000
END:DAYLIGHT
BEGIN:STANDARD
TZOFFSETFROM:+0100
TZOFFSETTO:+0000
TZNAME:GMT
DTSTART:20191027T010000
END:STANDARD
BEGIN:DAYLIGHT
TZOFFSETFROM:+0000
TZOFFSETTO:+0100
TZNAME:BST
DTSTART:20200329T010000
END:DAYLIGHT
BEGIN:STANDARD
TZOFFSETFROM:+0100
TZOFFSETTO:+0000
TZNAME:GMT
DTSTART:20201025T010000
END:STANDARD
BEGIN:DAYLIGHT
TZOFFSETFROM:+0000
TZOFFSETTO:+0100
TZNAME:BST
DTSTART:20210328T010000
END:DAYLIGHT
BEGIN:STANDARD
TZOFFSETFROM:+0100
TZOFFSETTO:+0000
TZNAME:GMT
DTSTART:20211031T010000
END:STANDARD
END:VTIMEZONE
BEGIN:VEVENT
DTSTART;VALUE=DATE:20210726
DTEND;VALUE=DATE:20211002
DTSTAMP:20260422T005941
CREATED:20210726T105229Z
LAST-MODIFIED:20210726T105402Z
UID:1103658-1627275600-1633064399@www.funkidslive.com
SUMMARY:Sea Life London Aquarium
DESCRIPTION:Home to over 500 species in 14 themed zones\, there is so much to see at SEA LIFE London Aquarium! \n\nPolar Adventure – Travel to the frozen extremities of the Antarctic and meet the stars of Polar Adventure – our Gentoo Penguin Colony\nOcean Invaders – Stepping into the UK’s largest jellyfish experience\, an interactive experience through three unique zones\nCoral Kingdom – Dive into a dazzling underwater oasis and wave your fins at the UK’s largest living Coral reef\nRockpool – Have you ever wanted to stroke a Starfish\, or tickle a Sea Anemone? Now’s your chance!\n\nSEA LIFE London Aquarium is located on the South bank of the river Thames\, within the County Hall building.  \nBook your tickets here! \n 
URL:https://www.funkidslive.com/event/sea-life-london-aquarium/
LOCATION:SEA LIFE London\, SEA LIFE London\, County Hall\, Westminster Bridge Rd\, Lambeth\, London\, SE1 7PB\, United Kingdom
GEO:51.5020436;-0.1191732
X-APPLE-STRUCTURED-LOCATION;VALUE=URI;X-ADDRESS=SEA LIFE London SEA LIFE London County Hall Westminster Bridge Rd Lambeth London SE1 7PB United Kingdom;X-APPLE-RADIUS=500;X-TITLE=SEA LIFE London\, County Hall\, Westminster Bridge Rd\, Lambeth:geo:-0.1191732,51.5020436
END:VEVENT
BEGIN:VEVENT
DTSTART;TZID=Europe/London:20170615T100000
DTEND;TZID=Europe/London:20180101T173000
DTSTAMP:20260422T005941
CREATED:20170615T113340Z
LAST-MODIFIED:20170622T143343Z
UID:1078654-1497520800-1514827800@www.funkidslive.com
SUMMARY:Ocean Invaders: Enter the world of the jellyfish experience opens at SEA LIFE London
DESCRIPTION:The UK’s largest jellyfish exhibit has just opened at SEA Life London! \nJellyfish are older than all of our ancient reptiles. Scientists believe they first swam in our oceans around 500 million years ago! \nOver 5\,000 varieties of six different species have been bred for the past year ready for the experience opening! \nDuring your experience at Ocean Invaders\, you can expect to see Moon Jellyfish\, Upside Down Jellyfish\, Japanese Sea Nettles and Amakusa Jellyfish! \nOcean Invaders: Enter the world of the jellyfish is a permanent addition to the SEA LIFE London Aquarium and included in the entrance price. \nVisitors can also enjoy getting up close to over 10\,000 colourful aquatic inhabitants\, representing over 600 species in 65 immersive displays. \nClick here to book your tickets!
URL:https://www.funkidslive.com/event/ocean-invaders-enter-world-jellyfish-experience-opens-sea-life-london/
LOCATION:SEA LIFE London\, SEA LIFE London\, County Hall\, Westminster Bridge Rd\, Lambeth\, London\, SE1 7PB\, United Kingdom
CATEGORIES:Days Out
GEO:51.5020436;-0.1191732
X-APPLE-STRUCTURED-LOCATION;VALUE=URI;X-ADDRESS=SEA LIFE London SEA LIFE London County Hall Westminster Bridge Rd Lambeth London SE1 7PB United Kingdom;X-APPLE-RADIUS=500;X-TITLE=SEA LIFE London\, County Hall\, Westminster Bridge Rd\, Lambeth:geo:-0.1191732,51.5020436
END:VEVENT
END:VCALENDAR