BEGIN:VCALENDAR
VERSION:2.0
PRODID:-//Fun Kids - the UK&#039;s children&#039;s radio station - ECPv6.9.0//NONSGML v1.0//EN
CALSCALE:GREGORIAN
METHOD:PUBLISH
X-ORIGINAL-URL:https://www.funkidslive.com
X-WR-CALDESC:Events for Fun Kids - the UK&#039;s children&#039;s radio station
REFRESH-INTERVAL;VALUE=DURATION:PT1H
X-Robots-Tag:noindex
X-PUBLISHED-TTL:PT1H
BEGIN:VTIMEZONE
TZID:Europe/London
BEGIN:DAYLIGHT
TZOFFSETFROM:+0000
TZOFFSETTO:+0100
TZNAME:BST
DTSTART:20170326T010000
END:DAYLIGHT
BEGIN:STANDARD
TZOFFSETFROM:+0100
TZOFFSETTO:+0000
TZNAME:GMT
DTSTART:20171029T010000
END:STANDARD
END:VTIMEZONE
BEGIN:VEVENT
DTSTART;TZID=Europe/London:20170705T100000
DTEND;TZID=Europe/London:20170903T200000
DTSTAMP:20260421T213458
CREATED:20170711T101751Z
LAST-MODIFIED:20170713T104217Z
UID:1079457-1499248800-1504468800@www.funkidslive.com
SUMMARY:The Learned Society of Extra Ordinary Objects at Somerset House!
DESCRIPTION:Enter the world of The Learned Society of Extra Ordinary Objects\, a design exhibition revealing the extra-ordinary possibilities of everyday objects! \nThis unique exhibition centres on the power of imagination and storytelling with design! \nOver 30 designers\, artists and makers have created or contributed objects to this collection. These new designs will present ordinary objects with extra ordinary stories! \nThey will also suggest playful and surprising modifications to familiar objects\, reimagining our interaction with items we encounter in our everyday lives… \nClick here to find out more \nTimes vary:\nSaturday to Tuesday\, 10:00 to 18:00\nWednesday to Friday\, 11:00 t0 20:00
URL:https://www.funkidslive.com/event/learned-society-extra-ordinary-objects-somerset-house/
LOCATION:Somerset House\, London\, Somerset House\, Strand\, London\, WC2R 1LA\, United Kingdom
CATEGORIES:Exhibition
GEO:51.511059;-0.117148
X-APPLE-STRUCTURED-LOCATION;VALUE=URI;X-ADDRESS=Somerset House London Somerset House Strand London WC2R 1LA United Kingdom;X-APPLE-RADIUS=500;X-TITLE=Somerset House\, Strand:geo:-0.117148,51.511059
END:VEVENT
BEGIN:VEVENT
DTSTART;TZID=Europe/London:20170701T120000
DTEND;TZID=Europe/London:20170701T150000
DTSTAMP:20260421T213458
CREATED:20170615T115813Z
LAST-MODIFIED:20170623T141508Z
UID:1078824-1498910400-1498921200@www.funkidslive.com
SUMMARY:Investigate your senses in a family perfume workshop at Somerset House!
DESCRIPTION:Marty and his famous mighty nose are exploring a whole range of scents! Using smelly props\, Marty invites you to describe a range of stinky smells. \n\nDiscover weird and whacky scents\, including one inspired by the aromas of a water park! \nThere’s also a fully-functioning laboratory to demonstrate how perfumes and other smelly fragrances are made. \nClick here to find out more! \n\nYou’ll learn how to describe scents like a pro\, and you’ll even get to play Smell Bingo! Fill in your very own “Stink Sheets” to display or take away. \nThis workshop is a free drop-in session for families with accompanied children aged 6 – 12\, spaces may be limited. 
URL:https://www.funkidslive.com/event/investigate-senses-family-perfume-workshop-somerset-house/
LOCATION:Somerset House\, London\, Somerset House\, Strand\, London\, WC2R 1LA\, United Kingdom
CATEGORIES:Exhibition
GEO:51.511059;-0.117148
X-APPLE-STRUCTURED-LOCATION;VALUE=URI;X-ADDRESS=Somerset House London Somerset House Strand London WC2R 1LA United Kingdom;X-APPLE-RADIUS=500;X-TITLE=Somerset House\, Strand:geo:-0.117148,51.511059
END:VEVENT
END:VCALENDAR