BEGIN:VCALENDAR
VERSION:2.0
PRODID:-//Fun Kids - the UK&#039;s children&#039;s radio station - ECPv6.9.0//NONSGML v1.0//EN
CALSCALE:GREGORIAN
METHOD:PUBLISH
X-WR-CALNAME:Fun Kids - the UK&#039;s children&#039;s radio station
X-ORIGINAL-URL:https://www.funkidslive.com
X-WR-CALDESC:Events for Fun Kids - the UK&#039;s children&#039;s radio station
REFRESH-INTERVAL;VALUE=DURATION:PT1H
X-Robots-Tag:noindex
X-PUBLISHED-TTL:PT1H
BEGIN:VTIMEZONE
TZID:Europe/London
BEGIN:DAYLIGHT
TZOFFSETFROM:+0000
TZOFFSETTO:+0100
TZNAME:BST
DTSTART:20170326T010000
END:DAYLIGHT
BEGIN:STANDARD
TZOFFSETFROM:+0100
TZOFFSETTO:+0000
TZNAME:GMT
DTSTART:20171029T010000
END:STANDARD
BEGIN:DAYLIGHT
TZOFFSETFROM:+0000
TZOFFSETTO:+0100
TZNAME:BST
DTSTART:20180325T010000
END:DAYLIGHT
BEGIN:STANDARD
TZOFFSETFROM:+0100
TZOFFSETTO:+0000
TZNAME:GMT
DTSTART:20181028T010000
END:STANDARD
BEGIN:DAYLIGHT
TZOFFSETFROM:+0000
TZOFFSETTO:+0100
TZNAME:BST
DTSTART:20190331T010000
END:DAYLIGHT
BEGIN:STANDARD
TZOFFSETFROM:+0100
TZOFFSETTO:+0000
TZNAME:GMT
DTSTART:20191027T010000
END:STANDARD
BEGIN:DAYLIGHT
TZOFFSETFROM:+0000
TZOFFSETTO:+0100
TZNAME:BST
DTSTART:20200329T010000
END:DAYLIGHT
BEGIN:STANDARD
TZOFFSETFROM:+0100
TZOFFSETTO:+0000
TZNAME:GMT
DTSTART:20201025T010000
END:STANDARD
END:VTIMEZONE
BEGIN:VEVENT
DTSTART;VALUE=DATE:20191108
DTEND;VALUE=DATE:20200107
DTSTAMP:20260422T001319
CREATED:20191118T100027Z
LAST-MODIFIED:20191118T151506Z
UID:1095447-1573189200-1578286799@www.funkidslive.com
SUMMARY:A twinkle-tastic winter at Southbank Centre
DESCRIPTION:Dazzling family shows\, festive markets\, sparkling lights and musical sandpits – with more seasonal delights than you can shake a stocking at\, Southbank Centre in winter is truly magical. \nPlay in giant sandpits illuminated by beautiful graphics\, creating music with your own movements at the return of Soundpit. All ages can come and explore unique sensory play\, making you the composer of your very own masterpieces. \n \nGallop over to a five-star retelling of Black Beauty\, and be wowed by Circus 1903’s daredevil tricks and sensational life-sized elephant puppets. \nSnuggle down to a free family screenings of animated classics including A Bug’s Life\, Finding Dory and One Hundred and One Dalmatians  in our Winter Pop-up Cinema. \n \nWrap up your gift shopping at our Winter Market\, packed with crowd-pleasing treats and gifts\, and gorge on goodies at our food and drink pop-ups next to the Thames. \nWith something for everyone in the family\, have a cracking winter with us at Southbank Centre.
URL:https://www.funkidslive.com/event/a-twinkle-tastic-winter-at-southbank-centre/
LOCATION:Southbank Centre\, South Bank\, London\, SE1 8XX\, United Kingdom
CATEGORIES:Christmas
GEO:51.5062004;-0.1163923
X-APPLE-STRUCTURED-LOCATION;VALUE=URI;X-ADDRESS=Southbank Centre South Bank London SE1 8XX United Kingdom;X-APPLE-RADIUS=500;X-TITLE=South Bank:geo:-0.1163923,51.5062004
END:VEVENT
BEGIN:VEVENT
DTSTART;TZID=Europe/London:20170826T100000
DTEND;TZID=Europe/London:20170828T180000
DTSTAMP:20260422T001319
CREATED:20170810T115011Z
LAST-MODIFIED:20170810T115011Z
UID:1080421-1503741600-1503943200@www.funkidslive.com
SUMMARY:LEGO® Mini Missions: Ninjas in the City
DESCRIPTION:Everyone loves LEGO®\, right?! \nWell this August Bank Holiday weekend\, LEGO is putting on a surprise pop-up show in London! \nIt’s called LEGO® Mini Missions: Ninjas in the City and is taking place on the Southbank.  \nIt’s the first time this has ever been done and the pop-up event is full of stuff from LEGO® City Police and LEGO NINJAGO™! \nWhen you arrive at Mission Base\, you’ll be told all about your mission and get given a goodie bag which be filled with things to help you! \nYou can join top City Police detective Chase McCain and the LEGO NINJAGO Ninjas to form a top crime fighting team!  \nYou’ll complete missions\, find clues\, and solve puzzles\, all against the evil Lord Garmadon. \nThere’s even a LEGO brick pit to spark your imagination\, trained masters of Spinjitsu and tons of team work!
URL:https://www.funkidslive.com/event/lego-mini-missions-ninjas-city/
LOCATION:Southbank Centre\, South Bank\, London\, SE1 8XX\, United Kingdom
CATEGORIES:Days Out
GEO:51.5062004;-0.1163923
X-APPLE-STRUCTURED-LOCATION;VALUE=URI;X-ADDRESS=Southbank Centre South Bank London SE1 8XX United Kingdom;X-APPLE-RADIUS=500;X-TITLE=South Bank:geo:-0.1163923,51.5062004
END:VEVENT
END:VCALENDAR