BEGIN:VCALENDAR
VERSION:2.0
PRODID:-//Fun Kids - the UK&#039;s children&#039;s radio station - ECPv6.9.0//NONSGML v1.0//EN
CALSCALE:GREGORIAN
METHOD:PUBLISH
X-WR-CALNAME:Fun Kids - the UK&#039;s children&#039;s radio station
X-ORIGINAL-URL:https://www.funkidslive.com
X-WR-CALDESC:Events for Fun Kids - the UK&#039;s children&#039;s radio station
REFRESH-INTERVAL;VALUE=DURATION:PT1H
X-Robots-Tag:noindex
X-PUBLISHED-TTL:PT1H
BEGIN:VTIMEZONE
TZID:Europe/London
BEGIN:DAYLIGHT
TZOFFSETFROM:+0000
TZOFFSETTO:+0100
TZNAME:BST
DTSTART:20190331T010000
END:DAYLIGHT
BEGIN:STANDARD
TZOFFSETFROM:+0100
TZOFFSETTO:+0000
TZNAME:GMT
DTSTART:20191027T010000
END:STANDARD
END:VTIMEZONE
BEGIN:VEVENT
DTSTART;TZID=Europe/London:20190824T110000
DTEND;TZID=Europe/London:20190824T180000
DTSTAMP:20260422T024301
CREATED:20190816T091001Z
LAST-MODIFIED:20190821T103709Z
UID:1094366-1566644400-1566669600@www.funkidslive.com
SUMMARY:Win a family holiday with Eurowings\, Stuttgart Airport\, Europa-Park theme park\, and SouthWest Germany!
DESCRIPTION:Make sure you’re at London’s Southbank on August 24th for the holiday hunt of the summer where you could win the ultimate family getaway to Germany! \nThe lucky winner will get flown out by Eurowings to Stuttgart Airport\, explore SouthWest Germany and spend time in the famous Europa-Park! \nBut winning won’t be easy – you’ll have to find the clues to hunt down the holiday! \nThere’ll be music\, games with Europa-Park mascot Ed Euromaus and giveaways to enjoy once you’ve finished holiday hunting. \nDan and Conor from Fun Kids will also be there\, keeping everybody entertained! \n \n\nTo recap\, it’s: \n\nA fun day out for the entire family\nA chance for the whole family to work together to solve the puzzle and be in for the chance to win a great holiday\nBegins 11am until 6pm\, which is the last chance to hand in your completed Treasure Map Clue Card!
URL:https://www.funkidslive.com/event/win-a-family-holiday-with-eurowings-stuttgart-airport-europa-park-theme-park-and-southwest-germany/
LOCATION:Southbank Observation Point\, 58–72 Upper Ground\, Gabriel's Wharf\, London\, SE1 9LT\, United Kingdom
CATEGORIES:Days Out
END:VEVENT
END:VCALENDAR