BEGIN:VCALENDAR
VERSION:2.0
PRODID:-//Fun Kids - the UK&#039;s children&#039;s radio station - ECPv6.9.0//NONSGML v1.0//EN
CALSCALE:GREGORIAN
METHOD:PUBLISH
X-WR-CALNAME:Fun Kids - the UK&#039;s children&#039;s radio station
X-ORIGINAL-URL:https://www.funkidslive.com
X-WR-CALDESC:Events for Fun Kids - the UK&#039;s children&#039;s radio station
REFRESH-INTERVAL;VALUE=DURATION:PT1H
X-Robots-Tag:noindex
X-PUBLISHED-TTL:PT1H
BEGIN:VTIMEZONE
TZID:Europe/London
BEGIN:DAYLIGHT
TZOFFSETFROM:+0000
TZOFFSETTO:+0100
TZNAME:BST
DTSTART:20190331T010000
END:DAYLIGHT
BEGIN:STANDARD
TZOFFSETFROM:+0100
TZOFFSETTO:+0000
TZNAME:GMT
DTSTART:20191027T010000
END:STANDARD
END:VTIMEZONE
BEGIN:VEVENT
DTSTART;TZID=Europe/London:20190701T080000
DTEND;TZID=Europe/London:20191231T170000
DTSTAMP:20260422T002036
CREATED:20170831T101744Z
LAST-MODIFIED:20190719T103437Z
UID:1081366-1561968000-1577811600@www.funkidslive.com
SUMMARY:Ride Mail Rail\, now open at the brand new Postal Museum!
DESCRIPTION:Take a ride on the newly opened Mail Rail\, a journey into London’s secret history! \nOne hundred years ago\, the Post Office built a secret railway under central London… \nStretching six-and-a-half miles from Paddington to Whitechapel and linking post offices across the city\, the driverless electric line carried up to four million letters a day! \n  \nIn 2003\, after 75 years of service\, the rail line was shut down\, the postmen left\, and the tunnels fell silent. \nClick here for more events! \nNow\, Mail Rail is reopening as part of the brand new Postal Museum! Hop on board for a 15-minute journey that’s deeper than the Underground. \nYou’ll learn what it took to make London’s post arrive on time\, hear about the men who spent their lives down here\, and see the roof of the interwar tunnel passing inches above your head. \nThe museum charts 500 years of the British postal service. \nClick here to visit The Postal Museum website! \nThis time it won’t carry letters. Instead\, two battery-powered trains take passengers through the tunnels for the first time! \nIt’s got original Penny Black stamps\, big pneumatic tubes\, a kids’ play area\, and a really cool five-wheeled post bike… \n \n 
URL:https://www.funkidslive.com/event/ride-mail-rail-now-open-brand-new-postal-museum/
LOCATION:The Postal Museum\, 15-20 Phoenix Place\, London\, WC1X 0DA\, United Kingdom
CATEGORIES:Days Out
GEO:51.5254834;-0.1141312
X-APPLE-STRUCTURED-LOCATION;VALUE=URI;X-ADDRESS=The Postal Museum 15-20 Phoenix Place London WC1X 0DA United Kingdom;X-APPLE-RADIUS=500;X-TITLE=15-20 Phoenix Place:geo:-0.1141312,51.5254834
END:VEVENT
END:VCALENDAR