BEGIN:VCALENDAR
VERSION:2.0
PRODID:-//Fun Kids - the UK&#039;s children&#039;s radio station - ECPv6.9.0//NONSGML v1.0//EN
CALSCALE:GREGORIAN
METHOD:PUBLISH
X-WR-CALNAME:Fun Kids - the UK&#039;s children&#039;s radio station
X-ORIGINAL-URL:https://www.funkidslive.com
X-WR-CALDESC:Events for Fun Kids - the UK&#039;s children&#039;s radio station
REFRESH-INTERVAL;VALUE=DURATION:PT1H
X-Robots-Tag:noindex
X-PUBLISHED-TTL:PT1H
BEGIN:VTIMEZONE
TZID:Europe/London
BEGIN:DAYLIGHT
TZOFFSETFROM:+0000
TZOFFSETTO:+0100
TZNAME:BST
DTSTART:20190331T010000
END:DAYLIGHT
BEGIN:STANDARD
TZOFFSETFROM:+0100
TZOFFSETTO:+0000
TZNAME:GMT
DTSTART:20191027T010000
END:STANDARD
END:VTIMEZONE
BEGIN:VEVENT
DTSTART;VALUE=DATE:20190807
DTEND;VALUE=DATE:20190903
DTSTAMP:20260422T010026
CREATED:20171120T134301Z
LAST-MODIFIED:20190520T161817Z
UID:1083872-1565154000-1567400399@www.funkidslive.com
SUMMARY:See The Very Hungry Caterpillar Show at The Troubadour White City Theatre!
DESCRIPTION:Eric Carle’s The Very Hungry Caterpillar has sold more than 43 million copies worldwide since it was first released in 1969! \nNow the book has made its way off the page and is back in London at The Troubadour White City Theatre! \nThe Very Hungry Caterpillar Show features over 75 puppets\, adapting four of Eric Carle stories. \nThose books are: Brown Bear\, Brown Bear\, 10 Little Rubber Ducks\, The Very Lonely Firefly and of course\, the star of the show celebrating its 50th Birthday in 2019 – The Very Hungry Caterpillar! \nClick here to find out more!
URL:https://www.funkidslive.com/event/see-hungry-caterpillar-show-west-end-christmas/
LOCATION:Troubadour Theatre – White City\, Wood Lane\, London\, W12 7TS\, United Kingdom
CATEGORIES:Shows
END:VEVENT
END:VCALENDAR