BEGIN:VCALENDAR
VERSION:2.0
PRODID:-//Fun Kids - the UK&#039;s children&#039;s radio station - ECPv6.9.0//NONSGML v1.0//EN
CALSCALE:GREGORIAN
METHOD:PUBLISH
X-WR-CALNAME:Fun Kids - the UK&#039;s children&#039;s radio station
X-ORIGINAL-URL:https://www.funkidslive.com
X-WR-CALDESC:Events for Fun Kids - the UK&#039;s children&#039;s radio station
REFRESH-INTERVAL;VALUE=DURATION:PT1H
X-Robots-Tag:noindex
X-PUBLISHED-TTL:PT1H
BEGIN:VTIMEZONE
TZID:Europe/London
BEGIN:DAYLIGHT
TZOFFSETFROM:+0000
TZOFFSETTO:+0100
TZNAME:BST
DTSTART:20180325T010000
END:DAYLIGHT
BEGIN:STANDARD
TZOFFSETFROM:+0100
TZOFFSETTO:+0000
TZNAME:GMT
DTSTART:20181028T010000
END:STANDARD
END:VTIMEZONE
BEGIN:VEVENT
DTSTART;VALUE=DATE:20181207
DTEND;VALUE=DATE:20181224
DTSTAMP:20260422T091052
CREATED:20181121T150521Z
LAST-MODIFIED:20181121T151138Z
UID:1091127-1544158800-1545541199@www.funkidslive.com
SUMMARY:See A Christmas Carol In Luton This Christmas!
DESCRIPTION:A Christmas Carol is one of the classic Christmas stories that everyone loves! It’s about of Ebenezer Scrooge\, a mean old man who hates Christmas and everything it stands for. Then on Christmas Eve he gets visited by three Christmas Spirits\, The Ghost of Christmas Past\, the Ghost of Christmas present\, and the Ghost of Christmas Yet to Come. \nGet your tickets! \nThe story was written by Charles Dickens and this December you can hear him bring A Christmas Carol to life at the Wardown Park Museum in Luton! \nIt’s a great show for the whole family! Learn more by heading over the Fantastic For Families website. \nFind more events near you with Fantastic For Families
URL:https://www.funkidslive.com/event/see-a-christmas-carol-in-luton-this-christmas/
LOCATION:Wardown Park Museum\, Old Bedford Road\, Luton\, Bedfordshire\, LU2 7HA\, United Kingdom
CATEGORIES:Christmas
END:VEVENT
END:VCALENDAR