BEGIN:VCALENDAR
VERSION:2.0
PRODID:-//Fun Kids - the UK&#039;s children&#039;s radio station - ECPv6.9.0//NONSGML v1.0//EN
CALSCALE:GREGORIAN
METHOD:PUBLISH
X-WR-CALNAME:Fun Kids - the UK&#039;s children&#039;s radio station
X-ORIGINAL-URL:https://www.funkidslive.com
X-WR-CALDESC:Events for Fun Kids - the UK&#039;s children&#039;s radio station
REFRESH-INTERVAL;VALUE=DURATION:PT1H
X-Robots-Tag:noindex
X-PUBLISHED-TTL:PT1H
BEGIN:VTIMEZONE
TZID:Europe/London
BEGIN:DAYLIGHT
TZOFFSETFROM:+0000
TZOFFSETTO:+0100
TZNAME:BST
DTSTART:20210328T010000
END:DAYLIGHT
BEGIN:STANDARD
TZOFFSETFROM:+0100
TZOFFSETTO:+0000
TZNAME:GMT
DTSTART:20211031T010000
END:STANDARD
BEGIN:DAYLIGHT
TZOFFSETFROM:+0000
TZOFFSETTO:+0100
TZNAME:BST
DTSTART:20220327T010000
END:DAYLIGHT
BEGIN:STANDARD
TZOFFSETFROM:+0100
TZOFFSETTO:+0000
TZNAME:GMT
DTSTART:20221030T010000
END:STANDARD
BEGIN:DAYLIGHT
TZOFFSETFROM:+0000
TZOFFSETTO:+0100
TZNAME:BST
DTSTART:20230326T010000
END:DAYLIGHT
BEGIN:STANDARD
TZOFFSETFROM:+0100
TZOFFSETTO:+0000
TZNAME:GMT
DTSTART:20231029T010000
END:STANDARD
END:VTIMEZONE
BEGIN:VEVENT
DTSTART;VALUE=DATE:20230401
DTEND;VALUE=DATE:20230418
DTSTAMP:20260421T131908
CREATED:20230322T113335Z
LAST-MODIFIED:20230322T113335Z
UID:1115922-1680325200-1681707599@www.funkidslive.com
SUMMARY:Visit The Watercress Line over the Easter holidays and enjoy art and craft activities!
DESCRIPTION:During the Easter holidays there will be a range of Easter and Springtime themed craft activities available daily at The Watercress Line stations in Alresford & Ropley. \n\n\n\n\nTicket holders can get involved and decorate an Easter card\, make spring flowers from paper\, create a design on a stone for your garden\, learn how to make a colourful Easter chick\, or make ‘bouncing bunnies’. You can also make a Bug House from various different materials. \n \nThere will be nature walks in the nearby Four Acres field (near Ropley station)\, where you could be lucky to see butterflies\, rabbits\, robins\, red kites\, wild flowers\, orchids & even snakes! \nTravel up and down the line\, where you can hop on and off at the heritage stations through the day\, enjoying the glorious Hampshire countryside. \nAll activities are included in the train ticket price and are between 10am – 4pm. \nGet your tickets here!
URL:https://www.funkidslive.com/event/visit-the-watercress-line-over-the-easter-holidays-and-enjoy-art-and-craft-activities/
LOCATION:Watercress Line\, The Railway Station\, Alresford\, Hampshire\, SO24 9JG\, United Kingdom
END:VEVENT
BEGIN:VEVENT
DTSTART;VALUE=DATE:20220528
DTEND;VALUE=DATE:20220607
DTSTAMP:20260421T131908
CREATED:20220329T084924Z
LAST-MODIFIED:20220329T084924Z
UID:1106430-1653714000-1654491599@www.funkidslive.com
SUMMARY:Watercress Line: Day Out With Thomas
DESCRIPTION:Peep\, peep!  \nJoin Thomas & Friends for a day of family fun at The Watercress Line. Take a train ride with Thomas\, meet some of your favourite characters and join Sodor Station Sweepers Rusty & Dusty for a trainload of excitement! \nThere’s plenty to keep the family entertained for the whole day\, including three Rusty & Dusty outdoor entertainment shows with Sir Topham Hatt and Diesel\, Percy & Toad and the Imagination Station play zone with Thomas & Friends activities\, all brand new for 2022! \nAs well as:\n• Meet and greet with Sir Topham Hatt\, Rusty & Dusty\n• Travel on the big trains from Ropley to Alton\n• Experience unlimited rides on the delightful miniature railway\n• Enjoy the children’s vintage fairground rides\n• Collect a Passport to Adventure\, a sticker activity sheet & a colouring pencil set
URL:https://www.funkidslive.com/event/watercress-line-day-out-with-thomas/
LOCATION:Watercress Line\, The Railway Station\, Alresford\, Hampshire\, SO24 9JG\, United Kingdom
END:VEVENT
BEGIN:VEVENT
DTSTART;VALUE=DATE:20220409
DTEND;VALUE=DATE:20220420
DTSTAMP:20260421T131908
CREATED:20220329T084853Z
LAST-MODIFIED:20220329T084853Z
UID:1106427-1649480400-1650344399@www.funkidslive.com
SUMMARY:Watercress Line: Fun On The Line In '39
DESCRIPTION:Experience life on the line in 1939 as the railway comes to life with a host of lively characters! \nIn this interactive living history experience you will learn more about the role of the railway during World War II. There will be characters at each station to bring the railway to life in an engaging way for all. \nMeet the Station Master in Alresford and learn how his garden contributed to the war effort and take home your very own tomato seeds to grow yourself. \nAt Ropley you can learn more about the role of women on the railway and the work they carried out on the locomotive Canadian Pacific.  \nLearn more about trade during the war at Medstead and Alton from the suave Spiv Bertie Bridges and see if you can help Local Defence Volunteer Norman Bishop find his lost Oxo cubes at Alton. \nDates: 9th-10th April 2022 and 15th-18th April 2022.
URL:https://www.funkidslive.com/event/watercress-line-fun-on-the-line-in-39/
LOCATION:Watercress Line\, The Railway Station\, Alresford\, Hampshire\, SO24 9JG\, United Kingdom
END:VEVENT
BEGIN:VEVENT
DTSTART;VALUE=DATE:20210723
DTEND;VALUE=DATE:20211002
DTSTAMP:20260421T131908
CREATED:20210723T145650Z
LAST-MODIFIED:20210723T145650Z
UID:1103647-1627016400-1633064399@www.funkidslive.com
SUMMARY:Watercress Line
DESCRIPTION:The Watercress Line is a heritage steam railway in Hampshire that runs 10 miles between the market towns of Alresford and Alton. \nThe railway is helping families re-live steam railway travel from the 1940s to 1960s. \nA family ticket will give you all day travel so you can explore the whole railway – from the stations at Alresford\, Ropley\, Medstead & Four Marks and Alton\, to the locomotive works at Ropley. \nYou’ll even be able to explore the locomotive yard and get up close to the huge engines! There is also a brand new locomotive playground and picnic areas\, so there is lots of fun to have. \nFind out more here!
URL:https://www.funkidslive.com/event/watercress-line/
LOCATION:Watercress Line\, The Railway Station\, Alresford\, Hampshire\, SO24 9JG\, United Kingdom
END:VEVENT
END:VCALENDAR